BEGIN:VCALENDAR
VERSION:2.0
PRODID:-//Read Local BC - ECPv6.15.20//NONSGML v1.0//EN
CALSCALE:GREGORIAN
METHOD:PUBLISH
X-WR-CALNAME:Read Local BC
X-ORIGINAL-URL:https://www.readlocalbc.ca
X-WR-CALDESC:Events for Read Local BC
REFRESH-INTERVAL;VALUE=DURATION:PT1H
X-Robots-Tag:noindex
X-PUBLISHED-TTL:PT1H
BEGIN:VTIMEZONE
TZID:America/Vancouver
BEGIN:DAYLIGHT
TZOFFSETFROM:-0800
TZOFFSETTO:-0700
TZNAME:PDT
DTSTART:20220313T100000
END:DAYLIGHT
BEGIN:STANDARD
TZOFFSETFROM:-0700
TZOFFSETTO:-0800
TZNAME:PST
DTSTART:20221106T090000
END:STANDARD
BEGIN:DAYLIGHT
TZOFFSETFROM:-0800
TZOFFSETTO:-0700
TZNAME:PDT
DTSTART:20230312T100000
END:DAYLIGHT
BEGIN:STANDARD
TZOFFSETFROM:-0700
TZOFFSETTO:-0800
TZNAME:PST
DTSTART:20231105T090000
END:STANDARD
BEGIN:DAYLIGHT
TZOFFSETFROM:-0800
TZOFFSETTO:-0700
TZNAME:PDT
DTSTART:20240310T100000
END:DAYLIGHT
BEGIN:STANDARD
TZOFFSETFROM:-0700
TZOFFSETTO:-0800
TZNAME:PST
DTSTART:20241103T090000
END:STANDARD
END:VTIMEZONE
BEGIN:VEVENT
DTSTART;TZID=America/Vancouver:20230214T160000
DTEND;TZID=America/Vancouver:20230214T190000
DTSTAMP:20260425T132810
CREATED:20230209T224852Z
LAST-MODIFIED:20230209T224852Z
UID:15298-1676390400-1676401200@www.readlocalbc.ca
SUMMARY:Moving Lines - An I Love Transit Week Poetry and Music Event
DESCRIPTION:TransLink’s Arts and Culture program presents MOVING LINES – An I Love Transit Week Poetry and Music Event\, featuring poets Hari Alluri\, Angelic Goldsky\, Fiona Lam\, and Brandon Wint with violinist Cameron Wilson and cellist Finn Mannische of the band Van Django. \nThis Literary Cabaret of poetry readings and improvised music will take place at the Atrium in Vancouver’s Waterfront Station\, from 4-7 pm on Valentine’s Day\, February 14\, in a mutual celebration of transit and love. Throughout the event\, our poets will also host an exciting\, interactive poetry booth\, to inspire riders’ own creativity as they express their love for transit. \n#ILoveTransit
URL:https://www.readlocalbc.ca/event/moving-lines-an-i-love-transit-week-poetry-and-music-event/
LOCATION:Waterfront Station Atrium\, 601 W Cordova\, Vancouver\, BC\, Canada
CATEGORIES:Reading,Workshop
ATTACH;FMTTYPE=application/pdf:https://www.readlocalbc.ca/wp-content/uploads/2023/02/2023-02-I-Love-TransitWeek_Event-Poster_FINAL.pdf
END:VEVENT
BEGIN:VEVENT
DTSTART;TZID=America/Vancouver:20230226T140000
DTEND;TZID=America/Vancouver:20230226T153000
DTSTAMP:20260425T132810
CREATED:20230222T205609Z
LAST-MODIFIED:20230222T214141Z
UID:15477-1677420000-1677425400@www.readlocalbc.ca
SUMMARY:Workshop: Two Paths to a Draft with Susan Olding
DESCRIPTION:In this 1.5 hour interactive workshop\, we’ll analyze sample texts\, review approaches to begin a piece of writing\, and consider the importance of form and structure across genres. You’ll leave with resources and suggestions for further reading\, writing\, and reflection. Aimed at writers of all levels and genres. \nSusan Olding is the author of Big Reader: Essays and Pathologies: A Life in Essays. Her essays\, fiction\, and poetry have appeared widely in literary journals and magazines throughout Canada and the U.S.
URL:https://www.readlocalbc.ca/event/two-paths-to-a-draft-with-susan-olding/
LOCATION:Zoom
CATEGORIES:Workshop
ATTACH;FMTTYPE=image/jpeg:https://www.readlocalbc.ca/wp-content/uploads/2023/02/Susan-Olding.jpg
END:VEVENT
END:VCALENDAR