BEGIN:VCALENDAR
VERSION:2.0
PRODID:-//Read Local BC - ECPv6.15.20//NONSGML v1.0//EN
CALSCALE:GREGORIAN
METHOD:PUBLISH
X-ORIGINAL-URL:https://www.readlocalbc.ca
X-WR-CALDESC:Events for Read Local BC
REFRESH-INTERVAL;VALUE=DURATION:PT1H
X-Robots-Tag:noindex
X-PUBLISHED-TTL:PT1H
BEGIN:VTIMEZONE
TZID:America/Vancouver
BEGIN:DAYLIGHT
TZOFFSETFROM:-0800
TZOFFSETTO:-0700
TZNAME:PDT
DTSTART:20220313T100000
END:DAYLIGHT
BEGIN:STANDARD
TZOFFSETFROM:-0700
TZOFFSETTO:-0800
TZNAME:PST
DTSTART:20221106T090000
END:STANDARD
BEGIN:DAYLIGHT
TZOFFSETFROM:-0800
TZOFFSETTO:-0700
TZNAME:PDT
DTSTART:20230312T100000
END:DAYLIGHT
BEGIN:STANDARD
TZOFFSETFROM:-0700
TZOFFSETTO:-0800
TZNAME:PST
DTSTART:20231105T090000
END:STANDARD
BEGIN:DAYLIGHT
TZOFFSETFROM:-0800
TZOFFSETTO:-0700
TZNAME:PDT
DTSTART:20240310T100000
END:DAYLIGHT
BEGIN:STANDARD
TZOFFSETFROM:-0700
TZOFFSETTO:-0800
TZNAME:PST
DTSTART:20241103T090000
END:STANDARD
END:VTIMEZONE
BEGIN:VEVENT
DTSTART;TZID=America/Vancouver:20230401T190000
DTEND;TZID=America/Vancouver:20230401T200000
DTSTAMP:20260425T110232
CREATED:20230327T204700Z
LAST-MODIFIED:20230327T204941Z
UID:15996-1680375600-1680379200@www.readlocalbc.ca
SUMMARY:WORKSHOP: The Write Stuff: From Memoir to Fiction
DESCRIPTION:Joseph Kakwinokanasum discusses how writing memoir prepared him for writing fiction\, and describes some of the methods and tools he used to write his first novel. \nA member of the James Smith Cree Nation\, Joseph is a graduate of SFU’s Writer’s Studio and the author of My Indian Summer (Tidewater Press\, 2022). Joseph writes on the unceded territory of the T’souke Nation.
URL:https://www.readlocalbc.ca/event/workshop-the-write-stuff-from-memoir-to-fiction/
LOCATION:Zoom
CATEGORIES:Workshop
ATTACH;FMTTYPE=image/jpeg:https://www.readlocalbc.ca/wp-content/uploads/2023/03/The-Write-Stuff-April.jpg
ORGANIZER;CN="Federation of BC Writers":MAILTO:rachel@bcwriters.ca
END:VEVENT
BEGIN:VEVENT
DTSTART;TZID=America/Vancouver:20230415T130000
DTEND;TZID=America/Vancouver:20230415T153000
DTSTAMP:20260425T110232
CREATED:20230327T205019Z
LAST-MODIFIED:20230327T205019Z
UID:15999-1681563600-1681572600@www.readlocalbc.ca
SUMMARY:WORKSHOP: Interior Dialogues: Poetry Workshops with Kerry Gilbert and Al Rempel
DESCRIPTION:Workshop with Kerry Gilbert: \n“Good writing gives energy\, whatever it is about.”—Marilyn Hacker\nHow can you make your writing more attractive to readers by paying close attention to energy? This workshop explores ideas around the core principles of energy\, including movement/heat\, leaps/gaps\, energetic word choice\, and the use of specifics. “Energy gives your writing power\, drama\, originality\, and life. Energy is what makes your creative writing stand out from everyone else’s” (Heather Sellers). This will be a hands-on exploration\, with some literary models to look at\, and a lot of room for experimentation in your own writing during the workshop. \nWorkshop with Al Rempel: \nWhat does zooming\, spelunking\, and tumbling have in common? Find out all the ways in Painting Powerful Images\, a workshop that will focus on generating and tightening up your poetic imagery. You will be presented with a few tools and techniques you can take with you into your writing practice\, and there will be time to try them out and ask questions during the workshop.
URL:https://www.readlocalbc.ca/event/workshop-interior-dialogues-poetry-workshops-with-kerry-gilbert-and-al-rempel/
LOCATION:Zoom
CATEGORIES:Workshop
ATTACH;FMTTYPE=image/jpeg:https://www.readlocalbc.ca/wp-content/uploads/2023/03/Interior-Dialogues.jpg
END:VEVENT
BEGIN:VEVENT
DTSTART;TZID=America/Vancouver:20230430T140000
DTEND;TZID=America/Vancouver:20230430T173000
DTSTAMP:20260425T110232
CREATED:20230307T213030Z
LAST-MODIFIED:20230307T213030Z
UID:15898-1682863200-1682875800@www.readlocalbc.ca
SUMMARY:WORKSHOP: Using ChatGPT to Up Your Productivity
DESCRIPTION:Are you a writer or editor who is curious about ChatGPT? We will have a demonstration of how ChatGPT can make you more productive at our Sunday\, April 30th meeting at 2 pm\, Mission Point House. Bring your laptops if you want to assistance with installation\, or have technical questions.
URL:https://www.readlocalbc.ca/event/workshop-using-chatgpt-to-up-your-productivity/
LOCATION:Mission Point House\, 4603 Sunshine Coast Hwy\, Davis Bay\, BC\, V0N 3A1\, Canada
CATEGORIES:Workshop
ORGANIZER;CN="Sunshine Coast Writers and Editors Society":MAILTO:sunshinecoastwritersandeditors@gmail.com
END:VEVENT
END:VCALENDAR