BEGIN:VCALENDAR
VERSION:2.0
PRODID:-//Read Local BC - ECPv6.15.20//NONSGML v1.0//EN
CALSCALE:GREGORIAN
METHOD:PUBLISH
X-WR-CALNAME:Read Local BC
X-ORIGINAL-URL:https://www.readlocalbc.ca
X-WR-CALDESC:Events for Read Local BC
REFRESH-INTERVAL;VALUE=DURATION:PT1H
X-Robots-Tag:noindex
X-PUBLISHED-TTL:PT1H
BEGIN:VTIMEZONE
TZID:America/Vancouver
BEGIN:DAYLIGHT
TZOFFSETFROM:-0800
TZOFFSETTO:-0700
TZNAME:PDT
DTSTART:20240310T100000
END:DAYLIGHT
BEGIN:STANDARD
TZOFFSETFROM:-0700
TZOFFSETTO:-0800
TZNAME:PST
DTSTART:20241103T090000
END:STANDARD
BEGIN:DAYLIGHT
TZOFFSETFROM:-0800
TZOFFSETTO:-0700
TZNAME:PDT
DTSTART:20250309T100000
END:DAYLIGHT
BEGIN:STANDARD
TZOFFSETFROM:-0700
TZOFFSETTO:-0800
TZNAME:PST
DTSTART:20251102T090000
END:STANDARD
BEGIN:DAYLIGHT
TZOFFSETFROM:-0800
TZOFFSETTO:-0700
TZNAME:PDT
DTSTART:20260308T100000
END:DAYLIGHT
BEGIN:STANDARD
TZOFFSETFROM:-0700
TZOFFSETTO:-0800
TZNAME:PST
DTSTART:20261101T090000
END:STANDARD
END:VTIMEZONE
BEGIN:VEVENT
DTSTART;TZID=America/Vancouver:20250316T150000
DTEND;TZID=America/Vancouver:20250316T163000
DTSTAMP:20260423T202346
CREATED:20250214T222232Z
LAST-MODIFIED:20250214T222232Z
UID:29086-1742137200-1742142600@www.readlocalbc.ca
SUMMARY:Writing the Queer Short Story at Wildfires Bookshop
DESCRIPTION:Join writers Corinne Manning\, Adele Barclay\, and Alex Leslie\, as they read from their work and discuss working in the short story form at Wildfires Bookshop (a lovely\, queer-owned bookstore\, if you haven’t been there yet!) in New West on Sunday March 16\, from 3:00 – 4:30 p.m.
URL:https://www.readlocalbc.ca/event/writing-the-queer-short-story-at-wildfires-bookshop/
LOCATION:BC
CATEGORIES:Workshop
END:VEVENT
END:VCALENDAR