BEGIN:VCALENDAR
VERSION:2.0
PRODID:-//Read Local BC - ECPv6.15.20//NONSGML v1.0//EN
CALSCALE:GREGORIAN
METHOD:PUBLISH
X-ORIGINAL-URL:https://www.readlocalbc.ca
X-WR-CALDESC:Events for Read Local BC
REFRESH-INTERVAL;VALUE=DURATION:PT1H
X-Robots-Tag:noindex
X-PUBLISHED-TTL:PT1H
BEGIN:VTIMEZONE
TZID:America/Vancouver
BEGIN:DAYLIGHT
TZOFFSETFROM:-0800
TZOFFSETTO:-0700
TZNAME:PDT
DTSTART:20240310T100000
END:DAYLIGHT
BEGIN:STANDARD
TZOFFSETFROM:-0700
TZOFFSETTO:-0800
TZNAME:PST
DTSTART:20241103T090000
END:STANDARD
BEGIN:DAYLIGHT
TZOFFSETFROM:-0800
TZOFFSETTO:-0700
TZNAME:PDT
DTSTART:20250309T100000
END:DAYLIGHT
BEGIN:STANDARD
TZOFFSETFROM:-0700
TZOFFSETTO:-0800
TZNAME:PST
DTSTART:20251102T090000
END:STANDARD
BEGIN:DAYLIGHT
TZOFFSETFROM:-0800
TZOFFSETTO:-0700
TZNAME:PDT
DTSTART:20260308T100000
END:DAYLIGHT
BEGIN:STANDARD
TZOFFSETFROM:-0700
TZOFFSETTO:-0800
TZNAME:PST
DTSTART:20261101T090000
END:STANDARD
END:VTIMEZONE
BEGIN:VEVENT
DTSTART;TZID=America/Vancouver:20250524T153000
DTEND;TZID=America/Vancouver:20250524T170000
DTSTAMP:20260423T112415
CREATED:20250502T172459Z
LAST-MODIFIED:20250502T172459Z
UID:30796-1748100600-1748106000@www.readlocalbc.ca
SUMMARY:Bill Arnott: Engaging the Senses
DESCRIPTION:Kelowna\, Bill Arnott is headed your way. He’s offering a free workshop at Kelowna Downtown Library Okanagan Regional Library. This workshop titled “Engaging the Senses” is perfect for writers of all genres and experiences. Bring whatever you need to write and get ready to be inspired! \nSee more and register here!
URL:https://www.readlocalbc.ca/event/bill-arnott-engaging-the-senses/
LOCATION:Okanagan Regional Library\, Kelowna branch\, 1380 Ellis St.\, Kelowna\, BC\, V1Y 2A2\, Canada
CATEGORIES:Workshop
END:VEVENT
END:VCALENDAR