BEGIN:VCALENDAR
VERSION:2.0
PRODID:-//Read Local BC - ECPv6.15.20//NONSGML v1.0//EN
CALSCALE:GREGORIAN
METHOD:PUBLISH
X-ORIGINAL-URL:https://www.readlocalbc.ca
X-WR-CALDESC:Events for Read Local BC
REFRESH-INTERVAL;VALUE=DURATION:PT1H
X-Robots-Tag:noindex
X-PUBLISHED-TTL:PT1H
BEGIN:VTIMEZONE
TZID:America/Vancouver
BEGIN:DAYLIGHT
TZOFFSETFROM:-0800
TZOFFSETTO:-0700
TZNAME:PDT
DTSTART:20240310T100000
END:DAYLIGHT
BEGIN:STANDARD
TZOFFSETFROM:-0700
TZOFFSETTO:-0800
TZNAME:PST
DTSTART:20241103T090000
END:STANDARD
BEGIN:DAYLIGHT
TZOFFSETFROM:-0800
TZOFFSETTO:-0700
TZNAME:PDT
DTSTART:20250309T100000
END:DAYLIGHT
BEGIN:STANDARD
TZOFFSETFROM:-0700
TZOFFSETTO:-0800
TZNAME:PST
DTSTART:20251102T090000
END:STANDARD
BEGIN:DAYLIGHT
TZOFFSETFROM:-0800
TZOFFSETTO:-0700
TZNAME:PDT
DTSTART:20260308T100000
END:DAYLIGHT
BEGIN:STANDARD
TZOFFSETFROM:-0700
TZOFFSETTO:-0800
TZNAME:PST
DTSTART:20261101T090000
END:STANDARD
END:VTIMEZONE
BEGIN:VEVENT
DTSTART;TZID=America/Vancouver:20250913T130000
DTEND;TZID=America/Vancouver:20250913T150000
DTSTAMP:20260423T055507
CREATED:20250903T164114Z
LAST-MODIFIED:20250903T164114Z
UID:33716-1757768400-1757775600@www.readlocalbc.ca
SUMMARY:The Canine Library
DESCRIPTION:We’re back for the 2025 Canine Library at John Hendry Trout Lake Park. Borrow a St. John Ambulance certified therapy pup\, read them poetry\, or join a poetry workshop. Sign-ups start at 12:30 pm—spots go fast\, so don’t be late! \nEnjoy books\, barks\, and fun with VPL’s Children’s tent and VPL’s Writer in Residence\, Selina Boan\, at this rain or shine party in the park. Stop by and visit the BiblioBike\, our electric cargo trike that brings the Vancouver Public Library to you! Get a library card\, check out a book\, explore VPL’s digital library\, and ask about library related services. \n*Please note\, you can only register for The Canine Library in person at the park. Kids 14 and under must be accompanied by an adult. Once you’ve registered to receive your bark-code\, you can check out a pup for a 10 minute session. The pup lineup will be announced as soon as they calm down from all of the excitement. \nPresented in partnership by Vancouver Public Library\, Paws 4 Stories\, St. John Ambulance BC/Yukon and Trout Lake Community Centre.
URL:https://www.readlocalbc.ca/event/the-canine-library/
LOCATION:John Hendry Park / Trout Lake\, 3300 Victoria Drive\, Vancouver\, BC\, V5N 4M4\, Canada
CATEGORIES:Festival,Workshop
ORGANIZER;CN="Vancouver Public Library":MAILTO:candie.tanaka@vpl.ca
END:VEVENT
END:VCALENDAR