BEGIN:VCALENDAR
VERSION:2.0
PRODID:-//Read Local BC - ECPv6.15.20//NONSGML v1.0//EN
CALSCALE:GREGORIAN
METHOD:PUBLISH
X-ORIGINAL-URL:https://www.readlocalbc.ca
X-WR-CALDESC:Events for Read Local BC
REFRESH-INTERVAL;VALUE=DURATION:PT1H
X-Robots-Tag:noindex
X-PUBLISHED-TTL:PT1H
BEGIN:VTIMEZONE
TZID:America/Vancouver
BEGIN:DAYLIGHT
TZOFFSETFROM:-0800
TZOFFSETTO:-0700
TZNAME:PDT
DTSTART:20220313T100000
END:DAYLIGHT
BEGIN:STANDARD
TZOFFSETFROM:-0700
TZOFFSETTO:-0800
TZNAME:PST
DTSTART:20221106T090000
END:STANDARD
BEGIN:DAYLIGHT
TZOFFSETFROM:-0800
TZOFFSETTO:-0700
TZNAME:PDT
DTSTART:20230312T100000
END:DAYLIGHT
BEGIN:STANDARD
TZOFFSETFROM:-0700
TZOFFSETTO:-0800
TZNAME:PST
DTSTART:20231105T090000
END:STANDARD
BEGIN:DAYLIGHT
TZOFFSETFROM:-0800
TZOFFSETTO:-0700
TZNAME:PDT
DTSTART:20240310T100000
END:DAYLIGHT
BEGIN:STANDARD
TZOFFSETFROM:-0700
TZOFFSETTO:-0800
TZNAME:PST
DTSTART:20241103T090000
END:STANDARD
END:VTIMEZONE
BEGIN:VEVENT
DTSTART;TZID=America/Vancouver:20230401T190000
DTEND;TZID=America/Vancouver:20230401T200000
DTSTAMP:20260425T121813
CREATED:20230327T204700Z
LAST-MODIFIED:20230327T204941Z
UID:15996-1680375600-1680379200@www.readlocalbc.ca
SUMMARY:WORKSHOP: The Write Stuff: From Memoir to Fiction
DESCRIPTION:Joseph Kakwinokanasum discusses how writing memoir prepared him for writing fiction\, and describes some of the methods and tools he used to write his first novel. \nA member of the James Smith Cree Nation\, Joseph is a graduate of SFU’s Writer’s Studio and the author of My Indian Summer (Tidewater Press\, 2022). Joseph writes on the unceded territory of the T’souke Nation.
URL:https://www.readlocalbc.ca/event/workshop-the-write-stuff-from-memoir-to-fiction/
LOCATION:Zoom
CATEGORIES:Workshop
ATTACH;FMTTYPE=image/jpeg:https://www.readlocalbc.ca/wp-content/uploads/2023/03/The-Write-Stuff-April.jpg
ORGANIZER;CN="Federation of BC Writers":MAILTO:rachel@bcwriters.ca
END:VEVENT
END:VCALENDAR