BEGIN:VCALENDAR
VERSION:2.0
PRODID:-//Read Local BC - ECPv6.15.20//NONSGML v1.0//EN
CALSCALE:GREGORIAN
METHOD:PUBLISH
X-ORIGINAL-URL:https://www.readlocalbc.ca
X-WR-CALDESC:Events for Read Local BC
REFRESH-INTERVAL;VALUE=DURATION:PT1H
X-Robots-Tag:noindex
X-PUBLISHED-TTL:PT1H
BEGIN:VTIMEZONE
TZID:America/Vancouver
BEGIN:DAYLIGHT
TZOFFSETFROM:-0800
TZOFFSETTO:-0700
TZNAME:PDT
DTSTART:20220313T100000
END:DAYLIGHT
BEGIN:STANDARD
TZOFFSETFROM:-0700
TZOFFSETTO:-0800
TZNAME:PST
DTSTART:20221106T090000
END:STANDARD
BEGIN:DAYLIGHT
TZOFFSETFROM:-0800
TZOFFSETTO:-0700
TZNAME:PDT
DTSTART:20230312T100000
END:DAYLIGHT
BEGIN:STANDARD
TZOFFSETFROM:-0700
TZOFFSETTO:-0800
TZNAME:PST
DTSTART:20231105T090000
END:STANDARD
BEGIN:DAYLIGHT
TZOFFSETFROM:-0800
TZOFFSETTO:-0700
TZNAME:PDT
DTSTART:20240310T100000
END:DAYLIGHT
BEGIN:STANDARD
TZOFFSETFROM:-0700
TZOFFSETTO:-0800
TZNAME:PST
DTSTART:20241103T090000
END:STANDARD
END:VTIMEZONE
BEGIN:VEVENT
DTSTART;TZID=America/Vancouver:20230608T133000
DTEND;TZID=America/Vancouver:20230608T150000
DTSTAMP:20260425T094036
CREATED:20230510T203055Z
LAST-MODIFIED:20230510T203204Z
UID:16851-1686231000-1686236400@www.readlocalbc.ca
SUMMARY:Professional Development Session: "Author Care Tips with Chelene Knight"
DESCRIPTION:Date: June 8th\, 1:30-3:00 PM (PDT) on Zoom \nPlease join us June 8th\, 1:30-3:00pm (PDT) online over Zoom for a 90 minute session on supporting authors through all stages of book production with our facilitator\, Chelene Knight. \nThe session will provide resources for how to develop an author’s kit\, and how to support authors in discovering and communicating their unique non-negotiables\, and time management strategies. \nPublishers can expect to take away tips regarding: establishing expectations with authors\, system and time hacks when working within limited resources\, and communicating author care to funders. \nThe session is free for Books BC members\, associates and friends. All participants must agree to abide by our code of conduct. \nBooks BC members and friends: free\nNon-members: $25\nRegister here!
URL:https://www.readlocalbc.ca/event/pd-session-author-care-tips-with-chelene-knight/
LOCATION:Zoom
CATEGORIES:Workshop
ATTACH;FMTTYPE=image/png:https://www.readlocalbc.ca/wp-content/uploads/2023/05/Facebook-How-to-support-authors-2160-×-1080-px-Facebook-Post-Landscape.png
END:VEVENT
END:VCALENDAR