BEGIN:VCALENDAR
VERSION:2.0
PRODID:-//Read Local BC - ECPv6.15.20//NONSGML v1.0//EN
CALSCALE:GREGORIAN
METHOD:PUBLISH
X-ORIGINAL-URL:https://www.readlocalbc.ca
X-WR-CALDESC:Events for Read Local BC
REFRESH-INTERVAL;VALUE=DURATION:PT1H
X-Robots-Tag:noindex
X-PUBLISHED-TTL:PT1H
BEGIN:VTIMEZONE
TZID:America/Vancouver
BEGIN:DAYLIGHT
TZOFFSETFROM:-0800
TZOFFSETTO:-0700
TZNAME:PDT
DTSTART:20220313T100000
END:DAYLIGHT
BEGIN:STANDARD
TZOFFSETFROM:-0700
TZOFFSETTO:-0800
TZNAME:PST
DTSTART:20221106T090000
END:STANDARD
BEGIN:DAYLIGHT
TZOFFSETFROM:-0800
TZOFFSETTO:-0700
TZNAME:PDT
DTSTART:20230312T100000
END:DAYLIGHT
BEGIN:STANDARD
TZOFFSETFROM:-0700
TZOFFSETTO:-0800
TZNAME:PST
DTSTART:20231105T090000
END:STANDARD
BEGIN:DAYLIGHT
TZOFFSETFROM:-0800
TZOFFSETTO:-0700
TZNAME:PDT
DTSTART:20240310T100000
END:DAYLIGHT
BEGIN:STANDARD
TZOFFSETFROM:-0700
TZOFFSETTO:-0800
TZNAME:PST
DTSTART:20241103T090000
END:STANDARD
END:VTIMEZONE
BEGIN:VEVENT
DTSTART;TZID=America/Vancouver:20231213T190000
DTEND;TZID=America/Vancouver:20231213T200000
DTSTAMP:20260424T152622
CREATED:20231102T214906Z
LAST-MODIFIED:20231102T214906Z
UID:19199-1702494000-1702497600@www.readlocalbc.ca
SUMMARY:Storied: On queerness in children’s books with Danny Ramadan and Robin Stevenson
DESCRIPTION:Join the BC and Yukon Book Prizes for Storied: Discussions on Books\, Publishing\, and the Creative Process. \nOn Wednesday\, December 13th\, Danny Ramadan\, author of Salma the Syrian Chef\, The Foghorn Echoes and more\, and Robin Stevenson\, winner of the Lieutenant Governor’s Award for Literary Excellence\, will discuss queerness in children’s book. \nThe event begins at 7 pm (PT). It will run for an hour.\nThis is a free event\, but registration is required. There will be no recording for this event. \nFunding for the Storied Series is thanks to Canada Book Fund\, Creative BC\, the Government of BC and the Canada Council for the Arts. \nAbout the guests: \nDanny Ramadan is a Syrian-Canadian author and LGBTQ-refugees advocate. His latest novel\, The Foghorn Echoes (Penguin – 2022) won the Lambda Award for Gay Fiction\, and is shortlisted for the BC & Yukon Book awards\, as well as the city of Vancouver Book Award. The Clothesline Swing (Nightwood – 2017) is translated to multiple languages. His award-winning children’s books The Salma Series includes picture book Salma the Syrian Chef (2020)\, and early chapters books Salma Makes a Home\, Salma Writes a Book (2023) and Salma Joins the Team (2024). He is expected to release his memoir Crooked Teeth in 2024. His short stories and essays have appeared in publications across North America and Europe. Since his arrival to Canada\, Ramadan has raised over $300\,000 for LGBTQ+ identifying refugees. \nRobin Stevenson is the award winning author of thirty books of fiction and non-fiction for kids and teens: her writing has been translated into numerous languages and published in more than a dozen countries. Robin’s books have won the Silver Birch Award\, the Sheila A. Egoff award and a Stonewall Honor\, and been finalists for the Governor General’s Literary Awards\, the Lambda Literary Awards\, and many reader’s choice awards. She is the Book and Periodical Council of Canada’s Champion of Free Expression for 2022.
URL:https://www.readlocalbc.ca/event/storied-on-queerness-in-childrens-books-with-danny-ramadan-and-robin-stevenson/
LOCATION:Zoom
CATEGORIES:Panel
ATTACH;FMTTYPE=image/jpeg:https://www.readlocalbc.ca/wp-content/uploads/2023/11/Post-7_1-100.jpg
ORGANIZER;CN="BC and Yukon Book Prizes":MAILTO:megan@bcyukonbookprizes.com
END:VEVENT
END:VCALENDAR