BEGIN:VCALENDAR
VERSION:2.0
PRODID:-//Read Local BC - ECPv6.15.20//NONSGML v1.0//EN
CALSCALE:GREGORIAN
METHOD:PUBLISH
X-WR-CALNAME:Read Local BC
X-ORIGINAL-URL:https://www.readlocalbc.ca
X-WR-CALDESC:Events for Read Local BC
REFRESH-INTERVAL;VALUE=DURATION:PT1H
X-Robots-Tag:noindex
X-PUBLISHED-TTL:PT1H
BEGIN:VTIMEZONE
TZID:America/Vancouver
BEGIN:DAYLIGHT
TZOFFSETFROM:-0800
TZOFFSETTO:-0700
TZNAME:PDT
DTSTART:20230312T100000
END:DAYLIGHT
BEGIN:STANDARD
TZOFFSETFROM:-0700
TZOFFSETTO:-0800
TZNAME:PST
DTSTART:20231105T090000
END:STANDARD
BEGIN:DAYLIGHT
TZOFFSETFROM:-0800
TZOFFSETTO:-0700
TZNAME:PDT
DTSTART:20240310T100000
END:DAYLIGHT
BEGIN:STANDARD
TZOFFSETFROM:-0700
TZOFFSETTO:-0800
TZNAME:PST
DTSTART:20241103T090000
END:STANDARD
BEGIN:DAYLIGHT
TZOFFSETFROM:-0800
TZOFFSETTO:-0700
TZNAME:PDT
DTSTART:20250309T100000
END:DAYLIGHT
BEGIN:STANDARD
TZOFFSETFROM:-0700
TZOFFSETTO:-0800
TZNAME:PST
DTSTART:20251102T090000
END:STANDARD
END:VTIMEZONE
BEGIN:VEVENT
DTSTART;TZID=America/Vancouver:20240605T190000
DTEND;TZID=America/Vancouver:20240605T210000
DTSTAMP:20260424T080224
CREATED:20240516T173026Z
LAST-MODIFIED:20240516T173026Z
UID:22229-1717614000-1717621200@www.readlocalbc.ca
SUMMARY:BC Yukon Book Prizes Finalists' Reading with Darrel J. McLeod\, David Norwell\, and Chelsea Wakelyn
DESCRIPTION:Please join Munro’s Books in celebrating three local authors who are finalists for 2024 BC Yukon Book Prizes: \nDarrel J. McLeod\, finalist for the Ethel Wilson Fiction Prize for A Season in Chezgh’un\nDavid Norwell\, finalist for the Roderick Haig-Brown Regional Prize for A Complex Coast: A Kayak Journey From Vancouver Island to Alaska\nChelsea Wakelyn\, finalist for the Ethel Wilson Fiction Prize for What Remains of Elsie Jane \nA Season in Chezgh’un is a subversive novel by acclaimed Cree author Darrel J. McLeod\, infused with the contradictory triumph and pain of finding conventional success in a world that feels alien. \nDARREL J. MCLEOD is Cree from Treaty-8 territory in Northern Alberta. Before deciding to pursue writing\, he worked as an educator\, chief negotiator of land claims for the federal government and executive director of education and international affairs with the Assembly of First Nations. He holds degrees in French literature and education from the University of British Columbia. He is the author of two memoirs: the award-winning Mamaskatch (2018; winner of the Governor General’s Literary Award for Nonfiction; shortlisted for many other major prizes; translated into French and German editions)\, followed by Peyakow (2021) which was also shortlisted for several literary prizes. He currently lives in Sooke\, BC\, and divides his time between writing and singing in a jazz band.\n__\nA Complex Coast is a soul-searching personal account of a young man’s 1\,700-kilometre kayak journey from Victoria\, BC\, to Gustavas\, Alaska\, illustrated with whimsical watercolour maps and illustrations of local flora\, fauna\, and landscapes. \nDAVID NORWELL is an author\, illustrator\, and world traveller. He holds a BSc in Geography from the University of Victoria\, and has worked for six seasons conducting biological and geological surveys In BC\, Alberta\, and the Yukon. His passion is communicating science in a way that accesses the human heart. David has visited thirty-three countries\, sailed across the Atlantic and Indian Ocean\, trekked over the Himalayas with a kitten\, and hitchhiked over two hundred rides. He is dedicated to understanding the human experience and sharing his findings. When not working on books\, he is volunteering at schools\, studying Buddhism\, and practising meditation.\n__\nWhat Remains of Elsie Jane is a heartbreaking and darkly funny portrait of a woman unravelling in the wake of tragedy. \nCHELSEA WAKELYN is a writer\, musician\, and mother to two lovely\, eccentric humans. She lives on Vancouver Island. \nWHEN: Wednesday\, June 5th at 7:00 p.m. (doors at 6:30).\nWHERE: In-store at Munro’s Books\, 1108 Government Street in Victoria.\nWHAT: Readings from three BC Yukon Book Prizes finalists: Darrel J. McLeod\, David Norwell\, and Chelsea Wakelyn.\nHOW: This event is free to attend.
URL:https://www.readlocalbc.ca/event/bc-yukon-book-prizes-finalists-reading-with-darrel-j-mcleod-david-norwell-and-chelsea-wakelyn/
LOCATION:Munro’s Books\, 1108 Government Street\, Victoria\, BC\, V8W 1Y2\, Canada
CATEGORIES:Awards,Panel
ATTACH;FMTTYPE=image/jpeg:https://www.readlocalbc.ca/wp-content/uploads/2024/05/BC-Yukon-IG.jpg
ORGANIZER;CN="Munro's Books":MAILTO:events@munrobooks.com
END:VEVENT
END:VCALENDAR