BEGIN:VCALENDAR
VERSION:2.0
PRODID:-//Read Local BC - ECPv6.15.20//NONSGML v1.0//EN
CALSCALE:GREGORIAN
METHOD:PUBLISH
X-ORIGINAL-URL:https://www.readlocalbc.ca
X-WR-CALDESC:Events for Read Local BC
REFRESH-INTERVAL;VALUE=DURATION:PT1H
X-Robots-Tag:noindex
X-PUBLISHED-TTL:PT1H
BEGIN:VTIMEZONE
TZID:America/Vancouver
BEGIN:DAYLIGHT
TZOFFSETFROM:-0800
TZOFFSETTO:-0700
TZNAME:PDT
DTSTART:20230312T100000
END:DAYLIGHT
BEGIN:STANDARD
TZOFFSETFROM:-0700
TZOFFSETTO:-0800
TZNAME:PST
DTSTART:20231105T090000
END:STANDARD
BEGIN:DAYLIGHT
TZOFFSETFROM:-0800
TZOFFSETTO:-0700
TZNAME:PDT
DTSTART:20240310T100000
END:DAYLIGHT
BEGIN:STANDARD
TZOFFSETFROM:-0700
TZOFFSETTO:-0800
TZNAME:PST
DTSTART:20241103T090000
END:STANDARD
BEGIN:DAYLIGHT
TZOFFSETFROM:-0800
TZOFFSETTO:-0700
TZNAME:PDT
DTSTART:20250309T100000
END:DAYLIGHT
BEGIN:STANDARD
TZOFFSETFROM:-0700
TZOFFSETTO:-0800
TZNAME:PST
DTSTART:20251102T090000
END:STANDARD
END:VTIMEZONE
BEGIN:VEVENT
DTSTART;VALUE=DATE:20240423
DTEND;VALUE=DATE:20240425
DTSTAMP:20260424T145226
CREATED:20240418T223830Z
LAST-MODIFIED:20240418T223830Z
UID:21813-1713837600-1713923999@www.readlocalbc.ca
SUMMARY:10th Anniversary of BC Book Day
DESCRIPTION:WHEN: Tuesday\, April 23\, 2024 \nWHAT: BC Book Day invites British Columbians to celebrate the province’s book & magazine publishers\, authors\, illustrators\, bookstores\, libraries\, festivals\, and literary prizes that connect us with local stories. \nGOAL: To raise awareness among government and the general public of BC’s publishing ecosystem and its cultural and economic contributions. \nWHO: BC Book Day is coordinated by the Association of Book Publishers of BC\, which works to support the long-term health and success of the Canadian-owned book industry in British Columbia. \nDid you know? \n\nBritish Columbia is the second largest English-language book publishing region in Canada\, with more than 30 active publishers.\nBC publishers operate in several regions\, including the Southern Interior\, the Sunshine Coast\, Vancouver Island\, and the Lower Mainland.\nWe bring Canadian writing and culture to a global audience\, exporting to more than 40 countries each year.
URL:https://www.readlocalbc.ca/event/10th-anniversary-of-bc-book-day/
CATEGORIES:Festival,Launch
ATTACH;FMTTYPE=image/png:https://www.readlocalbc.ca/wp-content/uploads/2024/04/BCBookDay-2024-FB_X.png
END:VEVENT
END:VCALENDAR