BEGIN:VCALENDAR
VERSION:2.0
PRODID:-//Read Local BC - ECPv6.15.20//NONSGML v1.0//EN
CALSCALE:GREGORIAN
METHOD:PUBLISH
X-WR-CALNAME:Read Local BC
X-ORIGINAL-URL:https://www.readlocalbc.ca
X-WR-CALDESC:Events for Read Local BC
REFRESH-INTERVAL;VALUE=DURATION:PT1H
X-Robots-Tag:noindex
X-PUBLISHED-TTL:PT1H
BEGIN:VTIMEZONE
TZID:America/Vancouver
BEGIN:DAYLIGHT
TZOFFSETFROM:-0800
TZOFFSETTO:-0700
TZNAME:PDT
DTSTART:20220313T100000
END:DAYLIGHT
BEGIN:STANDARD
TZOFFSETFROM:-0700
TZOFFSETTO:-0800
TZNAME:PST
DTSTART:20221106T090000
END:STANDARD
BEGIN:DAYLIGHT
TZOFFSETFROM:-0800
TZOFFSETTO:-0700
TZNAME:PDT
DTSTART:20230312T100000
END:DAYLIGHT
BEGIN:STANDARD
TZOFFSETFROM:-0700
TZOFFSETTO:-0800
TZNAME:PST
DTSTART:20231105T090000
END:STANDARD
BEGIN:DAYLIGHT
TZOFFSETFROM:-0800
TZOFFSETTO:-0700
TZNAME:PDT
DTSTART:20240310T100000
END:DAYLIGHT
BEGIN:STANDARD
TZOFFSETFROM:-0700
TZOFFSETTO:-0800
TZNAME:PST
DTSTART:20241103T090000
END:STANDARD
END:VTIMEZONE
BEGIN:VEVENT
DTSTART;TZID=America/Vancouver:20230315T190000
DTEND;TZID=America/Vancouver:20230315T200000
DTSTAMP:20260425T042149
CREATED:20230222T211257Z
LAST-MODIFIED:20230222T211257Z
UID:15497-1678906800-1678910400@www.readlocalbc.ca
SUMMARY:READING: An Evening with Tara MacLean
DESCRIPTION:Singer/songwriter Tara MacLean has had an extraordinary musical career. From being discovered singing on a BC ferry to touring with Dido\, Tom Cochrane and Lilith Fair\, her solo albums and those with the band Shaye have touched legions of fans. But she hasn’t\, until now\, disclosed the details of how the power of song saved her from a childhood filled with danger. Come out and hear her story as she introduces her new memoir\, Song of the Sparrow\, with both readings and songs. It’s going to be an evening of beautiful things!
URL:https://www.readlocalbc.ca/event/reading-an-evening-with-tara-maclean/
LOCATION:Bolen Books\, #111-1644 Hillside Ave.\, Victoria\, BC\, V8T 2C5\, Canada
CATEGORIES:Launch,Meet & Greet,Reading
ATTACH;FMTTYPE=image/jpeg:https://www.readlocalbc.ca/wp-content/uploads/2023/02/Copy-of-FB-event-cover-1.jpg
ORGANIZER;CN="Bolen Books":MAILTO:heidi@bolen.bc.ca
END:VEVENT
BEGIN:VEVENT
DTSTART;TZID=America/Vancouver:20230330T190000
DTEND;TZID=America/Vancouver:20230330T220000
DTSTAMP:20260425T042149
CREATED:20230222T212104Z
LAST-MODIFIED:20230222T212104Z
UID:15471-1680202800-1680213600@www.readlocalbc.ca
SUMMARY:Community Salon Reading Series: West-Coast Lit with Cedar Bowers\, Margot Fedoruk & Andrea Routley
DESCRIPTION:Victoria’s only prose reading series presents West-Coast Literature in March! Cedar Bowers will read from her BC and Yukon Book Prizes shortlisted and Giller long-listed debut novel Astra\, Margot Fedoruk will read from her debut memoir about life as a sea urchin-diver’s wife on Gabriola Island\, Cooking Tips for Desperate Fishwives: An Island Memoir\, and Andrea Routley will read from her book of five novellas that feature queer women in the rugged West Coast\, This Unlikely Soil.
URL:https://www.readlocalbc.ca/event/community-salon-reading-series-west-coast-lit-with-cedar-bowers-margot-fedoruk-andrea-routley/
LOCATION:Community Salon\, 1129 Meares Street\, Victoria\, 1129 Meares Street\, Victoria\, Canada
CATEGORIES:Reading
ATTACH;FMTTYPE=image/jpeg:https://www.readlocalbc.ca/wp-content/uploads/2023/02/March-Reading-Poster.jpg
ORGANIZER;CN="Community Salon Reading Series":MAILTO:thecommunitysalonreadings@gmail.com
END:VEVENT
END:VCALENDAR