BEGIN:VCALENDAR
VERSION:2.0
PRODID:-//Read Local BC - ECPv6.15.20//NONSGML v1.0//EN
CALSCALE:GREGORIAN
METHOD:PUBLISH
X-ORIGINAL-URL:https://www.readlocalbc.ca
X-WR-CALDESC:Events for Read Local BC
REFRESH-INTERVAL;VALUE=DURATION:PT1H
X-Robots-Tag:noindex
X-PUBLISHED-TTL:PT1H
BEGIN:VTIMEZONE
TZID:America/Vancouver
BEGIN:DAYLIGHT
TZOFFSETFROM:-0800
TZOFFSETTO:-0700
TZNAME:PDT
DTSTART:20220313T100000
END:DAYLIGHT
BEGIN:STANDARD
TZOFFSETFROM:-0700
TZOFFSETTO:-0800
TZNAME:PST
DTSTART:20221106T090000
END:STANDARD
BEGIN:DAYLIGHT
TZOFFSETFROM:-0800
TZOFFSETTO:-0700
TZNAME:PDT
DTSTART:20230312T100000
END:DAYLIGHT
BEGIN:STANDARD
TZOFFSETFROM:-0700
TZOFFSETTO:-0800
TZNAME:PST
DTSTART:20231105T090000
END:STANDARD
BEGIN:DAYLIGHT
TZOFFSETFROM:-0800
TZOFFSETTO:-0700
TZNAME:PDT
DTSTART:20240310T100000
END:DAYLIGHT
BEGIN:STANDARD
TZOFFSETFROM:-0700
TZOFFSETTO:-0800
TZNAME:PST
DTSTART:20241103T090000
END:STANDARD
END:VTIMEZONE
BEGIN:VEVENT
DTSTART;TZID=America/Vancouver:20231101T190000
DTEND;TZID=America/Vancouver:20231101T210000
DTSTAMP:20260424T171821
CREATED:20230912T164550Z
LAST-MODIFIED:20230912T164550Z
UID:18440-1698865200-1698872400@www.readlocalbc.ca
SUMMARY:Ali Blythe and Jason Jobin Book Launch
DESCRIPTION:Please join Munro’s Books in celebrating new books by two local authors: Ali Blythe and Jason Jobin! \nBright star\, would I were stedfast as thou art — \nBreaking open John Keats’s “Last Sonnet\,” in his third book of poetry\, Stedfast\, Ali Blythe writes marginality into the canon\, at once claiming\, reviving\, and un-fixing the Romantic vision. \nTaking place over one night\, the poet in bed next to a sleeping lover\, Blythe’s revelatory poems struggle with questions of illusion and reality\, immersion and escapism\, that which endures and that which is transient. Held taut in formal quivers of short lines\, each poem is shot through with eros — to address\, to dress and undress\, the subject of the love poem and perhaps love itself. \nJason Jobin’s debut\, The Wild Mandrake\, is a memoir that covers his life from the cusp of adulthood\, as he faces cancer that keeps coming back. \nDoctors used to tell him he was cured. That was a long time ago. Ever since he first left home at age nineteen\, writer Jason Jobin has had cancer. Every five years\, like clockwork\, it relapses\, and yet he always pulls through\, surrounded by friends and family but isolated by illness. Chemotherapy\, surgeries\, radiation — these persist\, but they aren’t the milestones of his life. They can’t be\, he won’t let them be. \nFrom helicoptering into the Yukon backcountry to teaching in an elite writing program\, Jason strives to enter adulthood with some normalcy\, but his is the life of “a special case.” And he does live. He lives working at a deli for minimum wage as his students come down the hill to shop and ask what he’s doing there. He lives measuring out nausea pills and benzos while his roommates drink and smoke and party. He lives lying to girlfriends about past diagnoses because what can you say? What do you build on rubble? He lives high and low and in between. Again he is sick\, again he is cured. It’s miraculous. A great gift. But never enough. \nTold in short glimpses\, this story redefines what it means to survive. Jobin brings together the illuminated moments of loss and joy as he navigates chronic illness and builds from it something new and wildly unexpected. \nWHEN: Wednesday\, November 1st at 7:00 PM (doors at 6:30). \nWHERE: In-store at Munro’s Books\, 1108 Government St. \nWHAT: A reading and signings by Ali Blythe and Jason Jobin. \nHOW: This event is free to attend.
URL:https://www.readlocalbc.ca/event/ali-blythe-and-jason-jobin-book-launch/
LOCATION:Munro’s Books\, 1108 Government Street\, Victoria\, BC\, V8W 1Y2\, Canada
CATEGORIES:Launch
ATTACH;FMTTYPE=image/jpeg:https://www.readlocalbc.ca/wp-content/uploads/2023/09/Ali-and-Jason-IG.jpg
ORGANIZER;CN="Munro's Books":MAILTO:events@munrobooks.com
END:VEVENT
BEGIN:VEVENT
DTSTART;TZID=America/Vancouver:20231102T123000
DTEND;TZID=America/Vancouver:20231102T140000
DTSTAMP:20260424T171821
CREATED:20231024T201318Z
LAST-MODIFIED:20231024T201318Z
UID:19052-1698928200-1698933600@www.readlocalbc.ca
SUMMARY:Book Signing with Darrel J. McLeod
DESCRIPTION:Please join Munro’s Books for a book signing with beloved local author\, Darrel J. McLeod!! \nDarrel J. McLeod will be in-store to sign copies of his debut novel\, A Season in Chezgh’un. \nA subversive novel by acclaimed Cree author Darrel J. McLeod\, infused with the contradictory triumph and pain of finding conventional success in a world that feels alien. \nJames\, a talented and conflicted Cree man from a tiny settlement in Northern Alberta\, has settled into a comfortable middle-class life in Kitsilano\, a trendy neighbourhood of Vancouver. He is living the life he had once dreamed of—travel\, a charming circle of sophisticated friends\, a promising career and a loving relationship with a caring man—but he chafes at being assimilated into mainstream society\, removed from his people and culture. \nThe untimely death of James’s mother\, his only link to his extended family and community\, propels him into a quest to reconnect with his roots. He secures a job as a principal in a remote northern Dakelh community but quickly learns that life there isn’t the fix he’d hoped it would be: His encounters with poverty\, cultural disruption and abuse conjure ghosts from his past that drive him toward self-destruction. During the single year he spends in northern BC\, James takes solace in the richness of the Dakelh culture—the indomitable spirit of the people\, and the splendour of nature—all the while fighting to keep his dark side from destroying his life. \nWHEN: Thursday\, November 2nd from 12:30-2:00 PM. \nWHERE: In-store at Munro’s Books\, 1108 Government Street. \nWHAT: A book signing of A Season in Chezgh’un with Darrel J. McLeod. \nHOW: This event is free to attend.
URL:https://www.readlocalbc.ca/event/book-signing-with-darrel-j-mcleod/
LOCATION:Munro’s Books\, 1108 Government Street\, Victoria\, BC\, V8W 1Y2\, Canada
CATEGORIES:Meet & Greet
ATTACH;FMTTYPE=image/jpeg:https://www.readlocalbc.ca/wp-content/uploads/2023/10/Darrel-J-McLeod-IG-post.jpg
ORGANIZER;CN="Munro's Books":MAILTO:events@munrobooks.com
END:VEVENT
BEGIN:VEVENT
DTSTART;TZID=America/Vancouver:20231109T190000
DTEND;TZID=America/Vancouver:20231109T210000
DTSTAMP:20260424T171821
CREATED:20231003T194758Z
LAST-MODIFIED:20231003T194758Z
UID:18871-1699556400-1699563600@www.readlocalbc.ca
SUMMARY:Book Launch: Arleen Pare and Barbara Pelman
DESCRIPTION:Please join Munro’s Books for the launch of new books by two beloved local poets! \nAward-winning poet Arleen Pare’s latest collection\, Absence of Wings\, is both an intimate family portrait and a public documentation of how we\, as a society\, can fail to protect our children. \nAbsence of Wings depicts the extraordinary and tragically foreshortened life of A.—Paré’s niece\, Brazilian\, adopted\, racialized\, and living with multiple mental health diagnoses. In her deft and clear poetics\, accompanied by documentary pieces in the tradition of C.D. Wright’s One with Others\, Paré is both witness to and emotionally engaged in the life and death of A. The result is deep and heart-felt\, both factional and fictional\, poetry and prose\, holding its subject\, A.\, heart-close and 3\,000 miles away. Absence of Wings unfolds on many levels; it embraces the private and public spheres; it is as intimate as family\, as worldly as the public and personal politics that surround each life. It both observes and embraces\, always with the important question of the world’s unprotected children in mind. \nIn A Brief and Endless Sea\, award-winning poet Barbara Pelman presents a life lived in poetry\, delving into the small moments and spaces containing the greatest offerings of love\, hope and possibility. \nBorn out of waiting out the lockdown during the early days of the pandemic\, Barbara Pelman’s A Brief and Endless Sea explores a life in retrospect\, beginning with a high school typing class and ending with the Angel Purah\, cutting the ties that bind a soul to a body. Many of the poems in this collection are rooted in Jewish tradition: the prophet Isaiah’s words of comfort; the rabbinical story of the Lost Princess\, that angel and her counterpart\, the Angel Duma. Pelman takes us to difficult places—the dissolution of a marriage\, caring for a parent with dementia. But she doesn’t leave us there\, waiting. Using the power of words to map a route out\, A Brief and Endless Sea pulls us toward life in all of its vibrant details—the simple beauty of a small garden of tomatoes and roses\, the pleasures of teaching poetry\, long walks with a grandson\, and encounters with spirituality. For Pelman\, there is comfort in the making of a poem and in the “smallest life you can love.” Like the glosa form she turns to often\, something small transforms into something larger\, expansive. In A Brief and Endless Sea\, the ordinary becomes extraordinary\, and waiting in itself presents fertile ground for hope and possibility. \nWHEN: Thursday\, November 9th at 7PM (doors at 6:30) \nWHERE: In-store at Munro’s Books\, 1108 Government St. \nWHAT: A reading and Q&A with Arleen Pare and Barbara Pelman. \nHOW: This event is free to attend.
URL:https://www.readlocalbc.ca/event/book-launch-arleen-pare-and-barbara-pelman/
LOCATION:Munro’s Books\, 1108 Government Street\, Victoria\, BC\, V8W 1Y2\, Canada
CATEGORIES:Launch,Meet & Greet,Panel
ATTACH;FMTTYPE=image/jpeg:https://www.readlocalbc.ca/wp-content/uploads/2023/10/Arleen-and-Barbara-FB-cover.jpg
ORGANIZER;CN="Munro's Books":MAILTO:events@munrobooks.com
END:VEVENT
BEGIN:VEVENT
DTSTART;TZID=America/Vancouver:20231119T130000
DTEND;TZID=America/Vancouver:20231119T143000
DTSTAMP:20260424T171821
CREATED:20231102T214846Z
LAST-MODIFIED:20231102T214846Z
UID:19189-1700398800-1700404200@www.readlocalbc.ca
SUMMARY:Book Launch: Blue Camas\, Blue Camas by Danielle S. Marcotte
DESCRIPTION:Join local author Danielle S. Marcotte for the launch of her new picture book\, Blue Camas\, Blue Camas. \nSunday\, November 19 | 1:00 pm\nBlack Bond Books – Ladner Village \nBlue Camas\, Blue Camas is the captivating story of how a flower that has been cultivated on Canada’s west coast since time immemorial came to symbolize the meeting of two contrasting ways of life and the perseverance of traditional knowledge against all odds. \nBlue Camas\, Blue Camas \n“Blue Camas\, Blue Camas is a captivating story revealing the overlooked history of colonial contact and its impact on Indigenous communities. Through vivid storytelling and diverse voices\, it emphasizes land stewardship\, cultural heritage\, and fostering empathy\, making it a valuable resource for children.”\n—SAMANTHA BEYNON\, author of Oolichan Moon
URL:https://www.readlocalbc.ca/event/book-launch-blue-camas-blue-camas-by-danielle-s-marcotte/
LOCATION:Black Bond Books – Ladner\, 5251 Ladner Trunk Road\, Ladner\, BC\, V4K 1W4\, Canada
CATEGORIES:Launch,Meet & Greet
ATTACH;FMTTYPE=image/jpeg:https://www.readlocalbc.ca/wp-content/uploads/2023/11/370171274_760536946082160_4838523719056452819_n.jpg
END:VEVENT
END:VCALENDAR