BEGIN:VCALENDAR
VERSION:2.0
PRODID:-//Read Local BC - ECPv6.15.20//NONSGML v1.0//EN
CALSCALE:GREGORIAN
METHOD:PUBLISH
X-ORIGINAL-URL:https://www.readlocalbc.ca
X-WR-CALDESC:Events for Read Local BC
REFRESH-INTERVAL;VALUE=DURATION:PT1H
X-Robots-Tag:noindex
X-PUBLISHED-TTL:PT1H
BEGIN:VTIMEZONE
TZID:America/Vancouver
BEGIN:DAYLIGHT
TZOFFSETFROM:-0800
TZOFFSETTO:-0700
TZNAME:PDT
DTSTART:20230312T100000
END:DAYLIGHT
BEGIN:STANDARD
TZOFFSETFROM:-0700
TZOFFSETTO:-0800
TZNAME:PST
DTSTART:20231105T090000
END:STANDARD
BEGIN:DAYLIGHT
TZOFFSETFROM:-0800
TZOFFSETTO:-0700
TZNAME:PDT
DTSTART:20240310T100000
END:DAYLIGHT
BEGIN:STANDARD
TZOFFSETFROM:-0700
TZOFFSETTO:-0800
TZNAME:PST
DTSTART:20241103T090000
END:STANDARD
BEGIN:DAYLIGHT
TZOFFSETFROM:-0800
TZOFFSETTO:-0700
TZNAME:PDT
DTSTART:20250309T100000
END:DAYLIGHT
BEGIN:STANDARD
TZOFFSETFROM:-0700
TZOFFSETTO:-0800
TZNAME:PST
DTSTART:20251102T090000
END:STANDARD
END:VTIMEZONE
BEGIN:VEVENT
DTSTART;TZID=America/Vancouver:20240313T190000
DTEND;TZID=America/Vancouver:20240313T200000
DTSTAMP:20260424T111647
CREATED:20240130T204733Z
LAST-MODIFIED:20240130T204733Z
UID:20159-1710356400-1710360000@www.readlocalbc.ca
SUMMARY:Author to Author: The Fusion of Fact and Fiction
DESCRIPTION:“Truth is so hard to tell\, it sometimes needs fiction to make it plausible.” —Francis Bacon \nCritically acclaimed authors Tara McGuire and Frances Peck create worlds that feel real because of accurate local and technical details\, and also journey into emotional and psychological truths that only fiction can reveal. \nIn this inspiring author conversation\, Tara and Frances will discuss the making of their books: their process\, research\, characters\, themes\, and the choices they made to blend fact and fiction on the page. \nTheir books will be for sale (cash or e-transfer). \nAuthor Bios: \nTara McGuire is a writer and broadcaster from North Vancouver. Her first book\, Holden After & Before — Love Letter for a Son Lost to Overdose\, a hybrid work in memoir and fiction exploring grief\, motherhood\, and the overdose crisis (Arsenal Pulp Press)\, was recognized by The Walrus as one of the favourite books of 2022 and was a finalist for the 2023 City of Vancouver Book Award. https://taramcguire.com/ \nFrances Peck is the author of Uncontrolled Flight\, a “complex and revelatory” (Vancouver Sun) story about the death of an aerial firefighter. Her previous novel\, The Broken Places\, about an earthquake rocking Vancouver\, was a Globe and Mail best book of 2022 and a finalist for the Rakuten Kobo Emerging Writer Prize. She lives in North Vancouver. \nRegistration required. Register online or call 604-984-0286\, ext. 8144. \nThis event takes place in the Community Meeting Room at Lynn Valley Library.
URL:https://www.readlocalbc.ca/event/author-to-author-the-fusion-of-fact-and-fiction/
LOCATION:North Vancouver Public Library – Lynn Valley branch\, 1277 Lynn Valley Road\, North Vancouver\, BC\, V7J 0A2\, Canada
CATEGORIES:Panel
ATTACH;FMTTYPE=image/jpeg:https://www.readlocalbc.ca/wp-content/uploads/2024/01/Screenshot-2024-01-29-121543.jpg
ORGANIZER;CN="North Vancouver District Public Library":MAILTO:info@nvdpl.ca
END:VEVENT
END:VCALENDAR