BEGIN:VCALENDAR
VERSION:2.0
PRODID:-//Read Local BC - ECPv6.15.20//NONSGML v1.0//EN
CALSCALE:GREGORIAN
METHOD:PUBLISH
X-WR-CALNAME:Read Local BC
X-ORIGINAL-URL:https://www.readlocalbc.ca
X-WR-CALDESC:Events for Read Local BC
REFRESH-INTERVAL;VALUE=DURATION:PT1H
X-Robots-Tag:noindex
X-PUBLISHED-TTL:PT1H
BEGIN:VTIMEZONE
TZID:America/Vancouver
BEGIN:DAYLIGHT
TZOFFSETFROM:-0800
TZOFFSETTO:-0700
TZNAME:PDT
DTSTART:20230312T100000
END:DAYLIGHT
BEGIN:STANDARD
TZOFFSETFROM:-0700
TZOFFSETTO:-0800
TZNAME:PST
DTSTART:20231105T090000
END:STANDARD
BEGIN:DAYLIGHT
TZOFFSETFROM:-0800
TZOFFSETTO:-0700
TZNAME:PDT
DTSTART:20240310T100000
END:DAYLIGHT
BEGIN:STANDARD
TZOFFSETFROM:-0700
TZOFFSETTO:-0800
TZNAME:PST
DTSTART:20241103T090000
END:STANDARD
BEGIN:DAYLIGHT
TZOFFSETFROM:-0800
TZOFFSETTO:-0700
TZNAME:PDT
DTSTART:20250309T100000
END:DAYLIGHT
BEGIN:STANDARD
TZOFFSETFROM:-0700
TZOFFSETTO:-0800
TZNAME:PST
DTSTART:20251102T090000
END:STANDARD
END:VTIMEZONE
BEGIN:VEVENT
DTSTART;TZID=America/Vancouver:20240827T183000
DTEND;TZID=America/Vancouver:20240827T200000
DTSTAMP:20260424T054427
CREATED:20240812T172620Z
LAST-MODIFIED:20240812T172620Z
UID:24566-1724783400-1724788800@www.readlocalbc.ca
SUMMARY:Virtual Reading: How Do I Sexy? Mx. Nillin Lore in conversation with Matsui de Roo
DESCRIPTION:Cross & Crows Books welcomes author Mx. Nillin Lore and Matsui de Roo for a virtual reading and discussion of Nillin’s first book\, How Do I Sexy? \nABOUT HOW DO I SEXY?\nWhat even is “sexy\,” and how do you do it? A tough question for trans and nonbinary queers struggling to find their sexual selves in a landscape rife with misogynistic\, transphobic and homophobic ideals and expectations.\nIn How Do I Sexy? Mx. Nillin Lore provides affirming and helpful direction based on over a decade of their own personal and professional experience as an educator\, advocate\, support worker and award-winning sex blogger. You’re invited to do some deep introspection\, find a look that feels right and gain insight on sexiness from fellow trans and nonbinary queers. You’ll also find valuable tips on navigating dating sites\, finding community\, managing rejection with grace and engaging in sexual relationships. Principled and compassionate\, Mx. Nillin Lore will help you figure out who you want to be\, who you want to be with and how to make it happen—both in the streets and between the sheets. \nABOUT MX. NILLIN LORE\nMx.Nillin Lore is an AuDHD\, genderflux\, queer\, and polyamorous author\, blogger and educator in Saskatoon\, Saskatchewan\, Canada. Winner of the Top 100 Sex Blogs of 2021\, they have had queer erotica stories published in several anthologies with Cleis Press and co-wrote Chapter 16 in the 2023 Lammy Award Finalist resource book Trans Bodies\, Trans Selves from Oxford University Press. \nABOUT MATSUI DE ROO\nMatsui is a queer\, trans\, nonbinary neurodivergent person of colour with ancestors from Japan\, Belgium\, France and Ireland\, grateful to live and work on the unceded\, ancestral and traditional territories of the xʷməθkʷəy̓ əm (Musqueam)\, səl̓ilw̓ ətaʔɬ (Tsleil-Waututh) and Sḵwx̱wú7mesh Úxwumixw (Squamish) Nations. Matsui is a registered clinical counsellor in private practice in Vancouver BC\, with an area of focus in queer- and trans-centered sexuality and sexual health. Matsui uses an intersectional lens to work with queer and trans people of colour healing from trauma\, burnout\, and grief. Their work is grounded in anti-oppression\, anti-capitalist and abolitionist values. They believe in mutual and collective care\, art\, activism\, play\, and plenty of rest to support individual and collective healing and liberation.
URL:https://www.readlocalbc.ca/event/virtual-reading-how-do-i-sexy-mx-nillin-lore-in-conversation-with-matsui-de-roo/
LOCATION:Cross and Crows Bookstore\, 2836 Commercial Drive\, Vancouver\, BC\, Canada
CATEGORIES:Interview,Open Mic
ATTACH;FMTTYPE=image/jpeg:https://www.readlocalbc.ca/wp-content/uploads/2024/08/Cross-and-Crows.jpg
ORGANIZER;CN="Cross and Crows Bookstore":MAILTO:info@crossandcrows.com
END:VEVENT
END:VCALENDAR