BEGIN:VCALENDAR
VERSION:2.0
PRODID:-//Read Local BC - ECPv6.15.20//NONSGML v1.0//EN
CALSCALE:GREGORIAN
METHOD:PUBLISH
X-ORIGINAL-URL:https://www.readlocalbc.ca
X-WR-CALDESC:Events for Read Local BC
REFRESH-INTERVAL;VALUE=DURATION:PT1H
X-Robots-Tag:noindex
X-PUBLISHED-TTL:PT1H
BEGIN:VTIMEZONE
TZID:America/Vancouver
BEGIN:DAYLIGHT
TZOFFSETFROM:-0800
TZOFFSETTO:-0700
TZNAME:PDT
DTSTART:20240310T100000
END:DAYLIGHT
BEGIN:STANDARD
TZOFFSETFROM:-0700
TZOFFSETTO:-0800
TZNAME:PST
DTSTART:20241103T090000
END:STANDARD
BEGIN:DAYLIGHT
TZOFFSETFROM:-0800
TZOFFSETTO:-0700
TZNAME:PDT
DTSTART:20250309T100000
END:DAYLIGHT
BEGIN:STANDARD
TZOFFSETFROM:-0700
TZOFFSETTO:-0800
TZNAME:PST
DTSTART:20251102T090000
END:STANDARD
BEGIN:DAYLIGHT
TZOFFSETFROM:-0800
TZOFFSETTO:-0700
TZNAME:PDT
DTSTART:20260308T100000
END:DAYLIGHT
BEGIN:STANDARD
TZOFFSETFROM:-0700
TZOFFSETTO:-0800
TZNAME:PST
DTSTART:20261101T090000
END:STANDARD
END:VTIMEZONE
BEGIN:VEVENT
DTSTART;TZID=America/Vancouver:20250621T133000
DTEND;TZID=America/Vancouver:20250621T153000
DTSTAMP:20260423T152800
CREATED:20250603T232541Z
LAST-MODIFIED:20250603T232541Z
UID:31347-1750512600-1750519800@www.readlocalbc.ca
SUMMARY:Book Launch: Celebrating Potlatches
DESCRIPTION:This June 21st\, join Samantha Beynon and Strong Nations Publishing at the Royal BC Museum for the official launch of Celebrating Potlatches! This beautiful picture book\, illustrated by Carla Joseph\, recounts the 1885 Potlatch ban and the resilience of the communities who fought to keep their traditions alive. Pick up your copies at the launch\, or pre-order now at www.strongnations.com \nStop by for short presentations from Samantha Beynon and Strong Nations Publishing\, a reading of the book\, book signings\, and light refreshments. Doors will open at 1:00 pm\, and the program will begin at 1:30 pm.
URL:https://www.readlocalbc.ca/event/book-launch-celebrating-potlatches/
LOCATION:Royal BC Museum\, 675 Belleville Street\, Victoria\, BC\, V8W 9W2\, Canada
CATEGORIES:Book Signing,Launch
ATTACH;FMTTYPE=image/jpeg:https://www.readlocalbc.ca/wp-content/uploads/2025/05/Celebrating-Potlatches-Book-Launch.jpg
END:VEVENT
END:VCALENDAR