BEGIN:VCALENDAR
VERSION:2.0
PRODID:-//Read Local BC - ECPv6.15.20//NONSGML v1.0//EN
CALSCALE:GREGORIAN
METHOD:PUBLISH
X-WR-CALNAME:Read Local BC
X-ORIGINAL-URL:https://www.readlocalbc.ca
X-WR-CALDESC:Events for Read Local BC
REFRESH-INTERVAL;VALUE=DURATION:PT1H
X-Robots-Tag:noindex
X-PUBLISHED-TTL:PT1H
BEGIN:VTIMEZONE
TZID:America/Vancouver
BEGIN:DAYLIGHT
TZOFFSETFROM:-0800
TZOFFSETTO:-0700
TZNAME:PDT
DTSTART:20250309T100000
END:DAYLIGHT
BEGIN:STANDARD
TZOFFSETFROM:-0700
TZOFFSETTO:-0800
TZNAME:PST
DTSTART:20251102T090000
END:STANDARD
BEGIN:DAYLIGHT
TZOFFSETFROM:-0800
TZOFFSETTO:-0700
TZNAME:PDT
DTSTART:20260308T100000
END:DAYLIGHT
BEGIN:STANDARD
TZOFFSETFROM:-0700
TZOFFSETTO:-0800
TZNAME:PST
DTSTART:20261101T090000
END:STANDARD
BEGIN:DAYLIGHT
TZOFFSETFROM:-0800
TZOFFSETTO:-0700
TZNAME:PDT
DTSTART:20270314T100000
END:DAYLIGHT
BEGIN:STANDARD
TZOFFSETFROM:-0700
TZOFFSETTO:-0800
TZNAME:PST
DTSTART:20271107T090000
END:STANDARD
END:VTIMEZONE
BEGIN:VEVENT
DTSTART;TZID=America/Vancouver:20260227T190000
DTEND;TZID=America/Vancouver:20260227T210000
DTSTAMP:20260422T223635
CREATED:20260202T201307Z
LAST-MODIFIED:20260202T201307Z
UID:47868-1772218800-1772226000@www.readlocalbc.ca
SUMMARY:Off the Shelf Poetry Reading Series: Jeff Derksen & Saba Pakdel
DESCRIPTION:Please join Simon Fraser University’s Department of English and Poetry in Canada for a poetry reading featuring Jeff Derksen and Saba Pakdel.\nDetails:\nDate/Time: Friday\, February 27th (Doors 6:30 PM; Event: 7-9 PM)\nLocation: SFU Belzberg Library at Harbour Centre campus (515 West Hastings St. Vancouver\, BC V6B 5K3)\nThis is a free event\, no RSVP required. \nBios: \nJeff Derksen: https://www.sfu.ca/english/people-dir/faculty/jeff-derksen.html \nSaba Pakdel: Saba Pakdel: Saba Pakdel is a poet\, migration literature scholar\, and PhD candidate in English at the University of Victoria. In her SSHRC-funded PhD research\, Saba specializes in migration study and climate-induced mobility with a focus on modern and contemporary literature\, exploring the experience of exile\, displacement\, and climate crises. Saba has published two poetry chapbooks In-Between (2022) and Un-Composed (2024) by above / ground press. \nVenue Accessibility:\nThis in-person event takes place at the SFU’s Harbour Centre campus. It is easily accessible by transit and near SkyTrain. The campus is wheelchair accessible and has wheelchair accessible washrooms. Gender neutral washrooms are also available.
URL:https://www.readlocalbc.ca/event/off-the-shelf-poetry-reading-series-jeff-derksen-saba-pakdel/
LOCATION:SFU Harbour Centre\, 515 West Hastings Street\, Vancouver\, BC\, Canada
CATEGORIES:Reading
ATTACH;FMTTYPE=image/jpeg:https://www.readlocalbc.ca/wp-content/uploads/2026/01/LiveWhale_Off-the-Shelf-Poetry-11.jpg
ORGANIZER;CN="SFU English":MAILTO:englcmns@sfu.ca
END:VEVENT
END:VCALENDAR