BEGIN:VCALENDAR
VERSION:2.0
PRODID:-//Read Local BC - ECPv6.15.20//NONSGML v1.0//EN
CALSCALE:GREGORIAN
METHOD:PUBLISH
X-ORIGINAL-URL:https://www.readlocalbc.ca
X-WR-CALDESC:Events for Read Local BC
REFRESH-INTERVAL;VALUE=DURATION:PT1H
X-Robots-Tag:noindex
X-PUBLISHED-TTL:PT1H
BEGIN:VTIMEZONE
TZID:America/Vancouver
BEGIN:DAYLIGHT
TZOFFSETFROM:-0800
TZOFFSETTO:-0700
TZNAME:PDT
DTSTART:20220313T100000
END:DAYLIGHT
BEGIN:STANDARD
TZOFFSETFROM:-0700
TZOFFSETTO:-0800
TZNAME:PST
DTSTART:20221106T090000
END:STANDARD
BEGIN:DAYLIGHT
TZOFFSETFROM:-0800
TZOFFSETTO:-0700
TZNAME:PDT
DTSTART:20230312T100000
END:DAYLIGHT
BEGIN:STANDARD
TZOFFSETFROM:-0700
TZOFFSETTO:-0800
TZNAME:PST
DTSTART:20231105T090000
END:STANDARD
BEGIN:DAYLIGHT
TZOFFSETFROM:-0800
TZOFFSETTO:-0700
TZNAME:PDT
DTSTART:20240310T100000
END:DAYLIGHT
BEGIN:STANDARD
TZOFFSETFROM:-0700
TZOFFSETTO:-0800
TZNAME:PST
DTSTART:20241103T090000
END:STANDARD
END:VTIMEZONE
BEGIN:VEVENT
DTSTART;TZID=America/Vancouver:20231027T150000
DTEND;TZID=America/Vancouver:20231027T160000
DTSTAMP:20260424T163618
CREATED:20231010T205140Z
LAST-MODIFIED:20231010T205140Z
UID:18900-1698418800-1698422400@www.readlocalbc.ca
SUMMARY:Book Signing with Ken McGoogan
DESCRIPTION:Please join Munro’s Books for a book signing with award-winning\, globe-trotting\, history-hunting storyteller\, Ken McGoogan! \nIn his latest book\, Searing for Franklin: New Light on the Great Arctic Mystery\, arctic historian Ken McGoogan approaches the legacy of nineteenth-century explorer Sir John Franklin from a contemporary perspective and offers a surprising new explanation of an enduring Northern mystery. \nTwo of Arctic explorer Sir John Franklin’s expeditions were monumental failures—the last one leading to more than a hundred deaths\, including his own. Yet many still see the Royal Navy man as a heroic figure who sacrificed himself to discover the Northwest Passage. \nThis book\, McGoogan’s sixth about Arctic exploration\, challenges that vision. It rejects old orthodoxies\, incorporates the latest discoveries\, and interweaves two main narratives. The first treats the Royal Navy’s Arctic Overland Expedition of 1819\, a harbinger-misadventure during which Franklin rejected the advice of Dene and Métis leaders and lost eleven of his twenty-one men to exhaustion\, starvation and murder. The second discovers a startling new answer to that greatest of Arctic mysteries: what was the root cause of the catastrophe that engulfed Franklin’s last expedition? \nThe well-preserved wrecks of Erebus and Terror—located in 2014 and 2016—promise to yield more clues about what cost the lives of the expedition members\, some of whom were reduced to cannibalism. Contemporary researchers\, rejecting theories of lead poisoning and botulism\, continue to seek conclusive evidence both underwater and on land. \nDrawing on his own research and Inuit oral accounts\, McGoogan teases out many intriguing aspects of Franklin’s expeditions\, including the explorer’s lethal hubris in ignoring the expert advice of the Dene leader Akaitcho. Franklin disappeared into the Arctic in 1845\, yet people remain fascinated with his final doomed voyage: what happened? McGoogan will captivate readers with his first-hand account of travelling to relevant locations\, visiting the graves of dead sailors and experiencing the Arctic—one of the most dramatic and challenging landscapes on the planet.
URL:https://www.readlocalbc.ca/event/book-signing-with-ken-mcgoogan/
LOCATION:Munro’s Books\, 1108 Government Street\, Victoria\, BC\, V8W 1Y2\, Canada
CATEGORIES:Meet & Greet
ATTACH;FMTTYPE=image/jpeg:https://www.readlocalbc.ca/wp-content/uploads/2023/10/Ken-McGoogan-FB-cover.jpg
ORGANIZER;CN="Munro's Books":MAILTO:events@munrobooks.com
END:VEVENT
END:VCALENDAR