BEGIN:VCALENDAR
VERSION:2.0
PRODID:-//Read Local BC - ECPv6.15.20//NONSGML v1.0//EN
CALSCALE:GREGORIAN
METHOD:PUBLISH
X-ORIGINAL-URL:https://www.readlocalbc.ca
X-WR-CALDESC:Events for Read Local BC
REFRESH-INTERVAL;VALUE=DURATION:PT1H
X-Robots-Tag:noindex
X-PUBLISHED-TTL:PT1H
BEGIN:VTIMEZONE
TZID:America/Vancouver
BEGIN:DAYLIGHT
TZOFFSETFROM:-0800
TZOFFSETTO:-0700
TZNAME:PDT
DTSTART:20220313T100000
END:DAYLIGHT
BEGIN:STANDARD
TZOFFSETFROM:-0700
TZOFFSETTO:-0800
TZNAME:PST
DTSTART:20221106T090000
END:STANDARD
BEGIN:DAYLIGHT
TZOFFSETFROM:-0800
TZOFFSETTO:-0700
TZNAME:PDT
DTSTART:20230312T100000
END:DAYLIGHT
BEGIN:STANDARD
TZOFFSETFROM:-0700
TZOFFSETTO:-0800
TZNAME:PST
DTSTART:20231105T090000
END:STANDARD
BEGIN:DAYLIGHT
TZOFFSETFROM:-0800
TZOFFSETTO:-0700
TZNAME:PDT
DTSTART:20240310T100000
END:DAYLIGHT
BEGIN:STANDARD
TZOFFSETFROM:-0700
TZOFFSETTO:-0800
TZNAME:PST
DTSTART:20241103T090000
END:STANDARD
END:VTIMEZONE
BEGIN:VEVENT
DTSTART;TZID=America/Vancouver:20231012T090000
DTEND;TZID=America/Vancouver:20231015T160000
DTSTAMP:20260424T173538
CREATED:20230705T232202Z
LAST-MODIFIED:20230705T232202Z
UID:17444-1697101200-1697385600@www.readlocalbc.ca
SUMMARY:Whistler Writers Festival
DESCRIPTION:The annual Whistler Writers Festival is Oct. 12 to 15\, 2023 in Whistler. Hear the newest\, enthralling works from favourite local\, Canadian\, and international authors\, connect with literary agents and publishers\, take workshops\, and enjoy live music. Select events available online. Visit whistlerwritersfest.com for the latest information & tickets. Tickets on sale August 21\, 2023. #WhistlerWritersFest
URL:https://www.readlocalbc.ca/event/whistler-writers-festival/
LOCATION:Fairmont Chateau Whistler\, 4599 Chateau Blvd\, Whistler\, Canada
CATEGORIES:Festival
ATTACH;FMTTYPE=image/jpeg:https://www.readlocalbc.ca/wp-content/uploads/2023/07/Cabaret-JR-221014-020.jpeg
ORGANIZER;CN="Whistler Writing Society":MAILTO:writers@whistlerwritersfest.com
END:VEVENT
BEGIN:VEVENT
DTSTART;VALUE=DATE:20231018
DTEND;VALUE=DATE:20231024
DTSTAMP:20260424T173538
CREATED:20230705T232011Z
LAST-MODIFIED:20230705T232011Z
UID:17424-1697594400-1698026399@www.readlocalbc.ca
SUMMARY:Surrey International Writers' Conference
DESCRIPTION:The Surrey International Writers’ Conference is the most comprehensive professional development conference of its kind in Canada. SiWC offers writers in all genres — from beginners to experts — the opportunity to hone their craft. \nSiWC will be a hybrid in person and online conference again in 2023. \nSiWC runs October 20-22\, 2023 (in person and virtual)\, with optional pre-conference master classes on October 18 (virtual) and October 19 (virtual and in person). \nThis Day We Write!
URL:https://www.readlocalbc.ca/event/surrey-international-writers-conference/
LOCATION:Sheraton Vancouver Guildford Hotel\, 15269 104th Avenue\, Surrey\, BC\, V3R 1N5\, Canada
CATEGORIES:Meet & Greet,Panel,Workshop
ATTACH;FMTTYPE=image/jpeg:https://www.readlocalbc.ca/wp-content/uploads/2023/06/SiWC-23-EmailSig-2r.jpg
ORGANIZER;CN="Surrey International Writers' Conference":MAILTO:info@siwc.ca
END:VEVENT
END:VCALENDAR