BEGIN:VCALENDAR
VERSION:2.0
PRODID:-//Read Local BC - ECPv6.15.20//NONSGML v1.0//EN
CALSCALE:GREGORIAN
METHOD:PUBLISH
X-ORIGINAL-URL:https://www.readlocalbc.ca
X-WR-CALDESC:Events for Read Local BC
REFRESH-INTERVAL;VALUE=DURATION:PT1H
X-Robots-Tag:noindex
X-PUBLISHED-TTL:PT1H
BEGIN:VTIMEZONE
TZID:America/Vancouver
BEGIN:DAYLIGHT
TZOFFSETFROM:-0800
TZOFFSETTO:-0700
TZNAME:PDT
DTSTART:20250309T100000
END:DAYLIGHT
BEGIN:STANDARD
TZOFFSETFROM:-0700
TZOFFSETTO:-0800
TZNAME:PST
DTSTART:20251102T090000
END:STANDARD
BEGIN:DAYLIGHT
TZOFFSETFROM:-0800
TZOFFSETTO:-0700
TZNAME:PDT
DTSTART:20260308T100000
END:DAYLIGHT
BEGIN:STANDARD
TZOFFSETFROM:-0700
TZOFFSETTO:-0800
TZNAME:PST
DTSTART:20261101T090000
END:STANDARD
BEGIN:DAYLIGHT
TZOFFSETFROM:-0800
TZOFFSETTO:-0700
TZNAME:PDT
DTSTART:20270314T100000
END:DAYLIGHT
BEGIN:STANDARD
TZOFFSETFROM:-0700
TZOFFSETTO:-0800
TZNAME:PST
DTSTART:20271107T090000
END:STANDARD
END:VTIMEZONE
BEGIN:VEVENT
DTSTART;TZID=America/Vancouver:20260203T180000
DTEND;TZID=America/Vancouver:20260203T200000
DTSTAMP:20260423T010921
CREATED:20260105T195019Z
LAST-MODIFIED:20260112T181518Z
UID:46638-1770141600-1770148800@www.readlocalbc.ca
SUMMARY:Follow Request: Speed Friending at the Library
DESCRIPTION:We know it is tough to make friends in Vancouver so we’re here to help. Bring your favourite book\, e-book\, graphic novel\, DVD\, podcast\, blog or zine to discuss at this fun\, casual\, in-person event at Central Library. \nYou’ll have six minutes with each person to chat about the item you brought and see if there is a friendship connection. At the very least you’ll have a bunch of interesting conversations with people who share similar interests. \nThis event is open to all with limited space available and takes place in the Alice MacKay room in the Lower Level of the Central Library. \nRegistration is required and this event will be capped at 100 people\, so sign up early!
URL:https://www.readlocalbc.ca/event/follow-request-speed-friending-at-the-library/
LOCATION:Vancouver Public Library\, Central Branch\, 350 West Georgia St.\, Vancouver\, BC\, V6B 6B1\, Canada
CATEGORIES:Festival
ATTACH;FMTTYPE=image/jpeg:https://www.readlocalbc.ca/wp-content/uploads/2025/12/FollowRequest-iStock-1179519546_2000px.jpg
ORGANIZER;CN="Vancouver Public Library":MAILTO:candie.tanaka@vpl.ca
END:VEVENT
END:VCALENDAR