BEGIN:VCALENDAR
VERSION:2.0
PRODID:-//Read Local BC - ECPv6.15.20//NONSGML v1.0//EN
CALSCALE:GREGORIAN
METHOD:PUBLISH
X-ORIGINAL-URL:https://www.readlocalbc.ca
X-WR-CALDESC:Events for Read Local BC
REFRESH-INTERVAL;VALUE=DURATION:PT1H
X-Robots-Tag:noindex
X-PUBLISHED-TTL:PT1H
BEGIN:VTIMEZONE
TZID:America/Vancouver
BEGIN:DAYLIGHT
TZOFFSETFROM:-0800
TZOFFSETTO:-0700
TZNAME:PDT
DTSTART:20220313T100000
END:DAYLIGHT
BEGIN:STANDARD
TZOFFSETFROM:-0700
TZOFFSETTO:-0800
TZNAME:PST
DTSTART:20221106T090000
END:STANDARD
BEGIN:DAYLIGHT
TZOFFSETFROM:-0800
TZOFFSETTO:-0700
TZNAME:PDT
DTSTART:20230312T100000
END:DAYLIGHT
BEGIN:STANDARD
TZOFFSETFROM:-0700
TZOFFSETTO:-0800
TZNAME:PST
DTSTART:20231105T090000
END:STANDARD
BEGIN:DAYLIGHT
TZOFFSETFROM:-0800
TZOFFSETTO:-0700
TZNAME:PDT
DTSTART:20240310T100000
END:DAYLIGHT
BEGIN:STANDARD
TZOFFSETFROM:-0700
TZOFFSETTO:-0800
TZNAME:PST
DTSTART:20241103T090000
END:STANDARD
END:VTIMEZONE
BEGIN:VEVENT
DTSTART;TZID=America/Vancouver:20230308T190000
DTEND;TZID=America/Vancouver:20230308T210000
DTSTAMP:20260424T202927
CREATED:20230222T210353Z
LAST-MODIFIED:20230222T210353Z
UID:15508-1678302000-1678309200@www.readlocalbc.ca
SUMMARY:Book Launch: Susan Braley\, Karen Enns\, & Jane Munro
DESCRIPTION:Join Munro’s for an evening of inspiring readings celebrating the newest collections from three wonderful local Victoria poets! \nTilling the Darkness is Susan Braley’s debut poetry collection follows a young woman born into a family of eleven as she navigates the inequities of gender roles on the farm and in the church. Eventually leading us to how this woman\, after leaving the farm\, comes to appreciate the complex\, bountiful legacy of her early life. \nKaren Enn’s Dislocations takes the reader on a lyrical journey\, wrapped in the vicissitudes of seasons and weather—while observing human and other-than-human lives. Enns invites us to peer and is concerned always with the locations and dislocations perspective implies and creates. \nFalse Creek\, Jane Munro’s collection\, balances her signature themes—dream life\, the visual arts\, the mysteries of the natural world—with an urgent\, more directly political voice. While not shirking painful realities\, the poems support the human capacity to climb ladders\, arrive at fresh points of view\, listen to one another\, and greet despair with attention\, wit\, and hope. \nWHEN: Wednesday\, March 8th\, at 7:00PM. Doors open at 6:30PM. \nWHERE: In-store at Munro’s Books! 1108 Government St. \nWHAT: Susan Braley\, Karen Enns and Jane Munro will be reading and talking about their newest poetry collections! \nHOW: This event is free to attend.
URL:https://www.readlocalbc.ca/event/book-launch-susan-braley-karen-enns-jane-munro/
LOCATION:Munro’s Books\, 1108 Government Street\, Victoria\, BC\, V8W 1Y2\, Canada
CATEGORIES:Launch,Reading
END:VEVENT
BEGIN:VEVENT
DTSTART;TZID=America/Vancouver:20230326T140000
DTEND;TZID=America/Vancouver:20230326T173000
DTSTAMP:20260424T202927
CREATED:20230307T213637Z
LAST-MODIFIED:20230307T213637Z
UID:15894-1679839200-1679851800@www.readlocalbc.ca
SUMMARY:WORKSHOP & BOOK LAUNCH: Write for the Reader Brain & Launch of emily & elspeth
DESCRIPTION:Join us Sunday\, March 26\, 2 pm\, Mission Point House\, 4603 Sunshine Coast Hwy\, Davis Bay\, for two extraordinary guests.\nCheryl Stephens\, a leader in plain language communications\, presents Write for the Reader Brain. \nCheryl Stephens found her calling as an educator\, trainer\, and consultant in communications. For over thirty years she has been writing\, speaking\, and teaching about plain language\, helping clients to become more successful communicators using plain language principles. \nCheryl has mined the varied fields of neuroscience to apply research results to explain human processes for reading\, thinking\, and decision-making. Since 2019\, she has been speaking internationally about writing for the reader brain.\nCheryl has three books in process with publication expected this year. Her earlier works include Plain Language Legal Writing and Plain Language In Plain English. Learn more about her at cherylstephens.com \nAfter a refreshment and social break\, starting at 3:30 pm: \nCatherine McNeil (Cat Mac) will read from her new poetry book emily & elspeth (Caitlin Press). The delightful cover of the book was created by local artist RoseAnn Janzen.\nShe is the author of under the influence (Bedazzled Ink) 2016 which won Milieu’s National Emerging Writers Competition. She has been widely published in literary magazines\, including Event\, Queer Chroma\, Sinister Wisdom\, and the Capilano Review\, and in anthologies throughout Canada\, the United States & England for the past thirty years. She lives in Halfmoon Bay\, BC\, with her dog\, Gaia and her cat\, Lavender. She is also a singer-songwriter and multi-instrumentalist. Book sales and signing to follow. \nscwes.ca 604-724-3534 sunshinecoastwritersandeditors@gmail.com
URL:https://www.readlocalbc.ca/event/workshop-book-launch-write-for-the-reader-brain-launch-of-emily-elspeth/
LOCATION:Mission Point House\, 4603 Sunshine Coast Hwy\, Davis Bay\, BC\, V0N 3A1\, Canada
CATEGORIES:Launch,Workshop
ATTACH;FMTTYPE=image/jpeg:https://www.readlocalbc.ca/wp-content/uploads/2023/03/emilyelspeth.jpeg
ORGANIZER;CN="Sunshine Coast Writers and Editors Society":MAILTO:sunshinecoastwritersandeditors@gmail.com
END:VEVENT
BEGIN:VEVENT
DTSTART;TZID=America/Vancouver:20230330T190000
DTEND;TZID=America/Vancouver:20230330T220000
DTSTAMP:20260424T202927
CREATED:20230222T212104Z
LAST-MODIFIED:20230222T212104Z
UID:15471-1680202800-1680213600@www.readlocalbc.ca
SUMMARY:Community Salon Reading Series: West-Coast Lit with Cedar Bowers\, Margot Fedoruk & Andrea Routley
DESCRIPTION:Victoria’s only prose reading series presents West-Coast Literature in March! Cedar Bowers will read from her BC and Yukon Book Prizes shortlisted and Giller long-listed debut novel Astra\, Margot Fedoruk will read from her debut memoir about life as a sea urchin-diver’s wife on Gabriola Island\, Cooking Tips for Desperate Fishwives: An Island Memoir\, and Andrea Routley will read from her book of five novellas that feature queer women in the rugged West Coast\, This Unlikely Soil.
URL:https://www.readlocalbc.ca/event/community-salon-reading-series-west-coast-lit-with-cedar-bowers-margot-fedoruk-andrea-routley/
LOCATION:Community Salon\, 1129 Meares Street\, Victoria\, 1129 Meares Street\, Victoria\, Canada
CATEGORIES:Reading
ATTACH;FMTTYPE=image/jpeg:https://www.readlocalbc.ca/wp-content/uploads/2023/02/March-Reading-Poster.jpg
ORGANIZER;CN="Community Salon Reading Series":MAILTO:thecommunitysalonreadings@gmail.com
END:VEVENT
END:VCALENDAR