BEGIN:VCALENDAR
VERSION:2.0
PRODID:-//Read Local BC - ECPv6.15.20//NONSGML v1.0//EN
CALSCALE:GREGORIAN
METHOD:PUBLISH
X-ORIGINAL-URL:https://www.readlocalbc.ca
X-WR-CALDESC:Events for Read Local BC
REFRESH-INTERVAL;VALUE=DURATION:PT1H
X-Robots-Tag:noindex
X-PUBLISHED-TTL:PT1H
BEGIN:VTIMEZONE
TZID:America/Vancouver
BEGIN:DAYLIGHT
TZOFFSETFROM:-0800
TZOFFSETTO:-0700
TZNAME:PDT
DTSTART:20220313T100000
END:DAYLIGHT
BEGIN:STANDARD
TZOFFSETFROM:-0700
TZOFFSETTO:-0800
TZNAME:PST
DTSTART:20221106T090000
END:STANDARD
BEGIN:DAYLIGHT
TZOFFSETFROM:-0800
TZOFFSETTO:-0700
TZNAME:PDT
DTSTART:20230312T100000
END:DAYLIGHT
BEGIN:STANDARD
TZOFFSETFROM:-0700
TZOFFSETTO:-0800
TZNAME:PST
DTSTART:20231105T090000
END:STANDARD
BEGIN:DAYLIGHT
TZOFFSETFROM:-0800
TZOFFSETTO:-0700
TZNAME:PDT
DTSTART:20240310T100000
END:DAYLIGHT
BEGIN:STANDARD
TZOFFSETFROM:-0700
TZOFFSETTO:-0800
TZNAME:PST
DTSTART:20241103T090000
END:STANDARD
END:VTIMEZONE
BEGIN:VEVENT
DTSTART;TZID=America/Vancouver:20230512T160000
DTEND;TZID=America/Vancouver:20230512T170000
DTSTAMP:20260425T043246
CREATED:20230419T172940Z
LAST-MODIFIED:20230419T172940Z
UID:16337-1683907200-1683910800@www.readlocalbc.ca
SUMMARY:Book Launch: Frances Barkley by Cathy Converse
DESCRIPTION:Join bestselling author Cathy Converse at the Maritime Museum of BC for an afternoon of sailing stories and maritime adventures to celebrate the launch of her new book\, Frances Barkley: Eighteenth-century Seafarer. \nFriday\, May 12 | 4:00 pm\nMaritime Museum of BC | 744 Douglas Street | Victoria\, B.C. \nFree with Museum admission ($10)\nSave your spot by registering here: https://store.mmbc.bc.ca/collections/digital-programs/products/book-launch-frances-barkley-by-cathy-converse \nBooks will be available for sale & signing\nEveryone welcome! \nFrances Barkley: Eighteenth-century Seafarer is a riveting re-telling of the voyages of Frances Barkley (1769–1845)\, who as a young woman travelled the world on a trading mission with her sea captain husband. The book is not simply a re-issue of Frances’s own reminiscences\, but a work of creative non-fiction—an extensive reimagining of her time at sea\, supplemented through extensive historical\, geographic\, and nautical research.
URL:https://www.readlocalbc.ca/event/book-launch-frances-barkley-by-cathy-converse/
LOCATION:Maritime Museum of BC\, 634 Humboldt St.\, Victoria\, BC\, Canada
CATEGORIES:Launch
ATTACH;FMTTYPE=image/jpeg:https://www.readlocalbc.ca/wp-content/uploads/2023/04/Frances.jpg
END:VEVENT
END:VCALENDAR