BEGIN:VCALENDAR
VERSION:2.0
PRODID:-//Read Local BC - ECPv6.15.20//NONSGML v1.0//EN
CALSCALE:GREGORIAN
METHOD:PUBLISH
X-ORIGINAL-URL:https://www.readlocalbc.ca
X-WR-CALDESC:Events for Read Local BC
REFRESH-INTERVAL;VALUE=DURATION:PT1H
X-Robots-Tag:noindex
X-PUBLISHED-TTL:PT1H
BEGIN:VTIMEZONE
TZID:America/Vancouver
BEGIN:DAYLIGHT
TZOFFSETFROM:-0800
TZOFFSETTO:-0700
TZNAME:PDT
DTSTART:20250309T100000
END:DAYLIGHT
BEGIN:STANDARD
TZOFFSETFROM:-0700
TZOFFSETTO:-0800
TZNAME:PST
DTSTART:20251102T090000
END:STANDARD
BEGIN:DAYLIGHT
TZOFFSETFROM:-0800
TZOFFSETTO:-0700
TZNAME:PDT
DTSTART:20260308T100000
END:DAYLIGHT
BEGIN:STANDARD
TZOFFSETFROM:-0700
TZOFFSETTO:-0800
TZNAME:PST
DTSTART:20261101T090000
END:STANDARD
BEGIN:DAYLIGHT
TZOFFSETFROM:-0800
TZOFFSETTO:-0700
TZNAME:PDT
DTSTART:20270314T100000
END:DAYLIGHT
BEGIN:STANDARD
TZOFFSETFROM:-0700
TZOFFSETTO:-0800
TZNAME:PST
DTSTART:20271107T090000
END:STANDARD
END:VTIMEZONE
BEGIN:VEVENT
DTSTART;TZID=America/Vancouver:20260308T190000
DTEND;TZID=America/Vancouver:20260308T210000
DTSTAMP:20260423T010927
CREATED:20260302T211518Z
LAST-MODIFIED:20260302T211518Z
UID:49266-1772996400-1773003600@www.readlocalbc.ca
SUMMARY:Poetry Reading: Steven Seidenberg & Danielle LaFrance
DESCRIPTION:Poets Steven Seidenberg and Danielle LaFrance will be reading at People’s Co-op Bookstore on Sunday\, March 8th (7-9 PM).\nThis is a free event and all are welcome – no need to RSVP. \n*This event is hosted by Simon Fraser University’s Department of English. \nBios:\nWriter and artist Steven Seidenberg’s literary works include “Coda” (Omnidawn\, Fall 2025)\, “Anon” (Omnidawn\, 2022)\, and “plain sight” (Roof Books\, 2020). His books have been published in Italian\, Portuguese and Swedish translation\, and his most recent collection of photographs is “The Architecture of Silence” (Contrasto\, 2023). \nDanielle LaFrance is a poet and information malprofessional. Their commitments are anchored to liberation\, resistance\, and pleasure. LaFrance is the author of “species branding” (Capilano University Editions\, 2010)\, “Friendly + Fire” (Talonbooks\, 2016)\, “JUST LIKE I LIKE IT” (Talonbooks\, 2019)\, and “#postdildo” (Talonbooks\, 2022). LaFrance co-created the reading and journal series\, “About a Bicycle” and currently collaborates on the ad infinitum intertextual sound project\, “Yes\, Sydo”. Their forthcoming book\, “Verbal Violence” (Talonbooks\, 2026) is a scrolling indictment of the professional managerial class. They reside as a guest on still occupied and still unceded xʷməθkʷəy̓əm\, Sḵwx̱wú7mesh\, and səlilwətaɬ lands.
URL:https://www.readlocalbc.ca/event/poetry-reading-steven-seidenberg-danielle-lafrance/
LOCATION:People’s Co-op Bookstore\, 1391 Commercial Drive\, Vancouver\, BC\, V5L 3X5\, Canada
CATEGORIES:Author Discussion,Reading
ATTACH;FMTTYPE=image/jpeg:https://www.readlocalbc.ca/wp-content/uploads/2026/02/LiveWhale_March-8-2026.jpg
ORGANIZER;CN="SFU English":MAILTO:englcmns@sfu.ca
END:VEVENT
END:VCALENDAR