BEGIN:VCALENDAR
VERSION:2.0
PRODID:-//Read Local BC - ECPv6.15.20//NONSGML v1.0//EN
CALSCALE:GREGORIAN
METHOD:PUBLISH
X-ORIGINAL-URL:https://www.readlocalbc.ca
X-WR-CALDESC:Events for Read Local BC
REFRESH-INTERVAL;VALUE=DURATION:PT1H
X-Robots-Tag:noindex
X-PUBLISHED-TTL:PT1H
BEGIN:VTIMEZONE
TZID:America/Vancouver
BEGIN:DAYLIGHT
TZOFFSETFROM:-0800
TZOFFSETTO:-0700
TZNAME:PDT
DTSTART:20220313T100000
END:DAYLIGHT
BEGIN:STANDARD
TZOFFSETFROM:-0700
TZOFFSETTO:-0800
TZNAME:PST
DTSTART:20221106T090000
END:STANDARD
BEGIN:DAYLIGHT
TZOFFSETFROM:-0800
TZOFFSETTO:-0700
TZNAME:PDT
DTSTART:20230312T100000
END:DAYLIGHT
BEGIN:STANDARD
TZOFFSETFROM:-0700
TZOFFSETTO:-0800
TZNAME:PST
DTSTART:20231105T090000
END:STANDARD
BEGIN:DAYLIGHT
TZOFFSETFROM:-0800
TZOFFSETTO:-0700
TZNAME:PDT
DTSTART:20240310T100000
END:DAYLIGHT
BEGIN:STANDARD
TZOFFSETFROM:-0700
TZOFFSETTO:-0800
TZNAME:PST
DTSTART:20241103T090000
END:STANDARD
END:VTIMEZONE
BEGIN:VEVENT
DTSTART;TZID=America/Vancouver:20231013T190000
DTEND;TZID=America/Vancouver:20231013T213000
DTSTAMP:20260424T093916
CREATED:20230912T164846Z
LAST-MODIFIED:20230912T164846Z
UID:18490-1697223600-1697232600@www.readlocalbc.ca
SUMMARY:Haida Modern Film Screening
DESCRIPTION:The Shadbolt Centre is honoured to present a screening of the film Haida Modern documenting the life and legacy of renowned Master Artist Robert Davidson. 80 min run time\, followed by a Q & A\, book sales/signing and reception with Robert Davidson\, whose work is featured in Echoes of the Supernatural: The Graphic Art of Robert Davidson (Figure 1 Publishing\, 2022). \nBook sales by Iron Dog Books \nTickets: Adult $25.00\, Seniors/Student $20.00\, Youth 17 & under $15.00 \nNo refunds on tickets\n$2.00 fee per ticket for exchanges\nContact the box office at 604-205-3000 with any ticketing questions.
URL:https://www.readlocalbc.ca/event/haida-modern-film-screening/
LOCATION:James Cowan Theatre\, 6450 Deer Lake Ave\, Burnaby\, BC\, Canada
ATTACH;FMTTYPE=image/jpeg:https://www.readlocalbc.ca/wp-content/uploads/2023/09/Echoes.jpg
ORGANIZER;CN="Shadbolt Centre for the Arts":MAILTO:shadboltinfo@burnaby.ca
END:VEVENT
END:VCALENDAR