BEGIN:VCALENDAR
VERSION:2.0
PRODID:-//Read Local BC - ECPv6.15.20//NONSGML v1.0//EN
CALSCALE:GREGORIAN
METHOD:PUBLISH
X-WR-CALNAME:Read Local BC
X-ORIGINAL-URL:https://www.readlocalbc.ca
X-WR-CALDESC:Events for Read Local BC
REFRESH-INTERVAL;VALUE=DURATION:PT1H
X-Robots-Tag:noindex
X-PUBLISHED-TTL:PT1H
BEGIN:VTIMEZONE
TZID:America/Vancouver
BEGIN:DAYLIGHT
TZOFFSETFROM:-0800
TZOFFSETTO:-0700
TZNAME:PDT
DTSTART:20240310T100000
END:DAYLIGHT
BEGIN:STANDARD
TZOFFSETFROM:-0700
TZOFFSETTO:-0800
TZNAME:PST
DTSTART:20241103T090000
END:STANDARD
BEGIN:DAYLIGHT
TZOFFSETFROM:-0800
TZOFFSETTO:-0700
TZNAME:PDT
DTSTART:20250309T100000
END:DAYLIGHT
BEGIN:STANDARD
TZOFFSETFROM:-0700
TZOFFSETTO:-0800
TZNAME:PST
DTSTART:20251102T090000
END:STANDARD
BEGIN:DAYLIGHT
TZOFFSETFROM:-0800
TZOFFSETTO:-0700
TZNAME:PDT
DTSTART:20260308T100000
END:DAYLIGHT
BEGIN:STANDARD
TZOFFSETFROM:-0700
TZOFFSETTO:-0800
TZNAME:PST
DTSTART:20261101T090000
END:STANDARD
END:VTIMEZONE
BEGIN:VEVENT
DTSTART;TZID=America/Vancouver:20250426T190000
DTEND;TZID=America/Vancouver:20250426T203000
DTSTAMP:20260423T164950
CREATED:20250421T214842Z
LAST-MODIFIED:20250421T214842Z
UID:30536-1745694000-1745699400@www.readlocalbc.ca
SUMMARY:Tawahum Bige: Book Launch & Conversation at Enabling Arts
DESCRIPTION:Tawahum Bige will launch a new poetry collection\, Stages of Tanning Words and Remembering Spells\, at Enabling Arts on Granville Island on April 26\, 7pm. \nIn their second poetry collection\, Tawahum Bige explores belonging and voice of a Two-Spirit Dene youth. These poems are a stark plunge—an answer to how voice emerges for a young Two Spirit growing up in so-called “Surrey\, BC\,” far from his Łutselk’e Dene territories.
URL:https://www.readlocalbc.ca/event/tawahum-bige-book-launch-conversation-at-enabling-arts/
LOCATION:Enabling Arts\, 104-343 Railway Street\, Vancouver\, British Columbia\, V6A 1A4\, Canada
CATEGORIES:Launch
ATTACH;FMTTYPE=image/jpeg:https://www.readlocalbc.ca/wp-content/uploads/2025/04/Tawahum-launch-event.jpg
ORGANIZER;CN="Nightwood Editions":MAILTO:fernanda@shaw.ca
END:VEVENT
END:VCALENDAR