BEGIN:VCALENDAR
VERSION:2.0
PRODID:-//Read Local BC - ECPv6.15.20//NONSGML v1.0//EN
CALSCALE:GREGORIAN
METHOD:PUBLISH
X-ORIGINAL-URL:https://www.readlocalbc.ca
X-WR-CALDESC:Events for Read Local BC
REFRESH-INTERVAL;VALUE=DURATION:PT1H
X-Robots-Tag:noindex
X-PUBLISHED-TTL:PT1H
BEGIN:VTIMEZONE
TZID:America/Vancouver
BEGIN:DAYLIGHT
TZOFFSETFROM:-0800
TZOFFSETTO:-0700
TZNAME:PDT
DTSTART:20220313T100000
END:DAYLIGHT
BEGIN:STANDARD
TZOFFSETFROM:-0700
TZOFFSETTO:-0800
TZNAME:PST
DTSTART:20221106T090000
END:STANDARD
BEGIN:DAYLIGHT
TZOFFSETFROM:-0800
TZOFFSETTO:-0700
TZNAME:PDT
DTSTART:20230312T100000
END:DAYLIGHT
BEGIN:STANDARD
TZOFFSETFROM:-0700
TZOFFSETTO:-0800
TZNAME:PST
DTSTART:20231105T090000
END:STANDARD
BEGIN:DAYLIGHT
TZOFFSETFROM:-0800
TZOFFSETTO:-0700
TZNAME:PDT
DTSTART:20240310T100000
END:DAYLIGHT
BEGIN:STANDARD
TZOFFSETFROM:-0700
TZOFFSETTO:-0800
TZNAME:PST
DTSTART:20241103T090000
END:STANDARD
END:VTIMEZONE
BEGIN:VEVENT
DTSTART;TZID=America/Vancouver:20230524T133000
DTEND;TZID=America/Vancouver:20230524T143000
DTSTAMP:20260425T033225
CREATED:20230510T205104Z
LAST-MODIFIED:20230510T205104Z
UID:16577-1684935000-1684938600@www.readlocalbc.ca
SUMMARY:Virtual Author Event with J. Torres
DESCRIPTION:Join us for a virtual visit with award-winning author\, J. Torres. In this presentation\, he’ll read from his Red Cedar-nominated graphic novel Stealing Home and give us a behind-the-scenes look at the creation of the book\, followed by a Q&A. \nJ. Torres is the author of many popular titles including How to Spot A Sasquatch\, the original Teen Titans Go comic book series\, Planet Hockey and Bigfoot Boy. Born in Manila\, Philippines and raised in Montreal\, J. Torres currently lives in Toronto. \nOnline registration is required for this virtual event. Classroom teachers of grades 4-7 students are encouraged to register. A link will be emailed to registered participants prior to the presentation. For more information\, please contact Rachel at Parkgate Library at 604-929-3727 ext. 8166.
URL:https://www.readlocalbc.ca/event/virtual-author-event-with-j-torres/
LOCATION:Zoom
ATTACH;FMTTYPE=image/jpeg:https://www.readlocalbc.ca/wp-content/uploads/2023/04/Stealing-home.jpg
ORGANIZER;CN="North Vancouver District Public Library":MAILTO:info@nvdpl.ca
END:VEVENT
END:VCALENDAR