BEGIN:VCALENDAR
VERSION:2.0
PRODID:-//Read Local BC - ECPv6.15.20//NONSGML v1.0//EN
CALSCALE:GREGORIAN
METHOD:PUBLISH
X-ORIGINAL-URL:https://www.readlocalbc.ca
X-WR-CALDESC:Events for Read Local BC
REFRESH-INTERVAL;VALUE=DURATION:PT1H
X-Robots-Tag:noindex
X-PUBLISHED-TTL:PT1H
BEGIN:VTIMEZONE
TZID:America/Vancouver
BEGIN:DAYLIGHT
TZOFFSETFROM:-0800
TZOFFSETTO:-0700
TZNAME:PDT
DTSTART:20220313T100000
END:DAYLIGHT
BEGIN:STANDARD
TZOFFSETFROM:-0700
TZOFFSETTO:-0800
TZNAME:PST
DTSTART:20221106T090000
END:STANDARD
BEGIN:DAYLIGHT
TZOFFSETFROM:-0800
TZOFFSETTO:-0700
TZNAME:PDT
DTSTART:20230312T100000
END:DAYLIGHT
BEGIN:STANDARD
TZOFFSETFROM:-0700
TZOFFSETTO:-0800
TZNAME:PST
DTSTART:20231105T090000
END:STANDARD
BEGIN:DAYLIGHT
TZOFFSETFROM:-0800
TZOFFSETTO:-0700
TZNAME:PDT
DTSTART:20240310T100000
END:DAYLIGHT
BEGIN:STANDARD
TZOFFSETFROM:-0700
TZOFFSETTO:-0800
TZNAME:PST
DTSTART:20241103T090000
END:STANDARD
END:VTIMEZONE
BEGIN:VEVENT
DTSTART;TZID=America/Vancouver:20231125T130000
DTEND;TZID=America/Vancouver:20231125T150000
DTSTAMP:20260425T051700
CREATED:20231121T193849Z
LAST-MODIFIED:20231121T193849Z
UID:19378-1700917200-1700924400@www.readlocalbc.ca
SUMMARY:Family Holiday Book Pop-Up & Reading!
DESCRIPTION:On Saturday\, November 25th at 1pm\, join Massy Arts and Massy Books at the Family Holiday Book Pop-Up & Reading\, featuring childrens\, middle-reader\, and young adult fiction and non-fiction with authors Tanya Boteju\, Jillian Christmas\, Tony Correia\, Hasan Namir\, Emily Pohl-Weary\, Holman Wang\, and Andrea Warner. Plus\, enjoy arts & crafts\, story prompts\, shopping\, and book signings!
URL:https://www.readlocalbc.ca/event/family-holiday-book-pop-up-reading/
LOCATION:Massy Arts\, 23 East Pender\, Vancouver\, B.C.\, Canada
CATEGORIES:Panel
ATTACH;FMTTYPE=image/jpeg:https://www.readlocalbc.ca/wp-content/uploads/2023/11/NOV-25-Andrea-Warner-Friends-header-1200-x-600-px.jpg
END:VEVENT
END:VCALENDAR