BEGIN:VCALENDAR
VERSION:2.0
PRODID:-//Read Local BC - ECPv6.15.20//NONSGML v1.0//EN
CALSCALE:GREGORIAN
METHOD:PUBLISH
X-ORIGINAL-URL:https://www.readlocalbc.ca
X-WR-CALDESC:Events for Read Local BC
REFRESH-INTERVAL;VALUE=DURATION:PT1H
X-Robots-Tag:noindex
X-PUBLISHED-TTL:PT1H
BEGIN:VTIMEZONE
TZID:America/Vancouver
BEGIN:DAYLIGHT
TZOFFSETFROM:-0800
TZOFFSETTO:-0700
TZNAME:PDT
DTSTART:20240310T100000
END:DAYLIGHT
BEGIN:STANDARD
TZOFFSETFROM:-0700
TZOFFSETTO:-0800
TZNAME:PST
DTSTART:20241103T090000
END:STANDARD
BEGIN:DAYLIGHT
TZOFFSETFROM:-0800
TZOFFSETTO:-0700
TZNAME:PDT
DTSTART:20250309T100000
END:DAYLIGHT
BEGIN:STANDARD
TZOFFSETFROM:-0700
TZOFFSETTO:-0800
TZNAME:PST
DTSTART:20251102T090000
END:STANDARD
BEGIN:DAYLIGHT
TZOFFSETFROM:-0800
TZOFFSETTO:-0700
TZNAME:PDT
DTSTART:20260308T100000
END:DAYLIGHT
BEGIN:STANDARD
TZOFFSETFROM:-0700
TZOFFSETTO:-0800
TZNAME:PST
DTSTART:20261101T090000
END:STANDARD
END:VTIMEZONE
BEGIN:VEVENT
DTSTART;TZID=America/Vancouver:20250915T183000
DTEND;TZID=America/Vancouver:20250915T200000
DTSTAMP:20260423T045505
CREATED:20250903T163612Z
LAST-MODIFIED:20250903T163612Z
UID:33724-1757961000-1757966400@www.readlocalbc.ca
SUMMARY:Women of the Fur Trade: An Evening with Playwright and Journalist Frances Koncan
DESCRIPTION:Frances Koncan’s play Women of the Fur Trade is about the Métis-led Red River Resistance against European colonisers. In eighteen hundred and something something\, somewhere upon the banks of a Reddish River in Treaty One Territory\, three very different women with a preference for twenty-first century slang sit in a fort sharing their views on life\, love\, and the hot nerd Louis Riel. \nWinner of the Toronto Fringe Best New Play Contest 2018\, this lively historical satire of survival and cultural in-heritance shifts perspectives from the male gaze onto women’s power in the past and present through the lens of the rapidly changing world of the Canadian fur trade. \nFrances will be in conversation with Lois Anderson\, Artistic Director at Touchstone Theatre for a delightful evening around the playwriting process and the Canadian theatre scene. \nStorylines invites audiences into the creative worlds of Canada’s leading playwrights through a series of rich conversations presented by Touchstone Theatre and the Vancouver Public Library. \n— \nFrances Koncan is an Anishinaabe and Slovene playwright and theatre artist from Couchiching First Nation. They hold an MFA in Playwriting from the City University of New York Brooklyn College. They were the Writer-in-Residence at the Winnipeg Public Library (2022-2023) and Writer-in-Residence at the University of Manitoba (2021-2022)\, as well as journalist at the Winnipeg Free Press (2019-2021). \nProductions of their work include Women of the Fur Trade (2023) at the Stratford Festival directed by Yvette Nolan\, Women of the Fur Trade (2024) at the National Arts Centre Indigenous Theatre/Great Canadian Theatre Company directed by Renae Morriseau\, Space Girl (2023) at Prairie Theatre Exchange directed by Krista Jackson\, The Crows (2023) at Gwaandak Theatre directed by Miki Wolf\, and Women of the Fur Trade (2020) at the Royal Manitoba Theatre Centre directed by Audrey Dwyer. \nLois Anderson is the Artistic Director of Touchstone Theatre\, and an Adjunct Professor at UBC in the Department of Theatre and Film. She won the Jessie Award for Best Direction (Pericles\, Bard on the Beach) and the 2019 Critic’s Choice Award for Innovation (Lysistrata). She has worked extensively in Canada and Australia and has been an Artistic Associate with The National Arts Centre most recently directing You Used to Call Me Marie by Tai Amy Grauman. Her directing credits include Behind the Moon\, Henry V\, Fun Home\, Medea\, Timothy Findley’s The Wars\, Iphigenia at Aulis\, CHILDISH\, Gertrude and Alice\, Taming of the Shrew\, My Granny the Goldfish\, Buffoon. \nIn partnership with Touchstone Theatre.
URL:https://www.readlocalbc.ca/event/women-of-the-fur-trade-an-evening-with-playwright-and-journalist-frances-koncan/
LOCATION:Vancouver Public Library\, Central Branch\, 350 West Georgia St.\, Vancouver\, BC\, V6B 6B1\, Canada
CATEGORIES:Interview,Panel
ATTACH;FMTTYPE=image/png:https://www.readlocalbc.ca/wp-content/uploads/2025/08/Storylines-Biblioevent.png
ORGANIZER;CN="Vancouver Public Library":MAILTO:candie.tanaka@vpl.ca
END:VEVENT
BEGIN:VEVENT
DTSTART;TZID=America/Vancouver:20250925T190000
DTEND;TZID=America/Vancouver:20250925T200000
DTSTAMP:20260423T045505
CREATED:20250904T222429Z
LAST-MODIFIED:20250904T222429Z
UID:36047-1758826800-1758830400@www.readlocalbc.ca
SUMMARY:An Evening with Richard Van Camp
DESCRIPTION:Join us for an amazing storytelling event with best selling author\, Richard Van Camp. He will share his life’s work of reclaiming stories\, family and community medicines and interviews with Elders from his community of Fort Smith\, NWT. You’ll hear miracle stories about how he and others whose parents went to residential schools have spent their adults lives reclaiming what was almost lost. \nRichard Van Camp is a proud member of the Dogrib Nation from Fort Smith\, Northwest Territories. He is an internationally renowned storyteller and best-selling author\, and the recipient of the Order of the Northwest Territories. He is the author of five collections of short stories\, six baby books\, three children’s books\, five comics and much more.
URL:https://www.readlocalbc.ca/event/an-evening-with-richard-van-camp/
LOCATION:Richmond Public Library\, Brighouse Branch\, 7700 Minoru Gate\, Richmond\, BC\, V6Y 1R8\, Canada
CATEGORIES:Author Discussion,Meet & Greet
ATTACH;FMTTYPE=image/webp:https://www.readlocalbc.ca/wp-content/uploads/2025/09/cd-eventthumbs2.webp
ORGANIZER;CN="Richmond Public Library":MAILTO:askus@yourlibrary.ca
END:VEVENT
END:VCALENDAR