BEGIN:VCALENDAR
VERSION:2.0
PRODID:-//Read Local BC - ECPv6.15.20//NONSGML v1.0//EN
CALSCALE:GREGORIAN
METHOD:PUBLISH
X-WR-CALNAME:Read Local BC
X-ORIGINAL-URL:https://www.readlocalbc.ca
X-WR-CALDESC:Events for Read Local BC
REFRESH-INTERVAL;VALUE=DURATION:PT1H
X-Robots-Tag:noindex
X-PUBLISHED-TTL:PT1H
BEGIN:VTIMEZONE
TZID:America/Vancouver
BEGIN:DAYLIGHT
TZOFFSETFROM:-0800
TZOFFSETTO:-0700
TZNAME:PDT
DTSTART:20220313T100000
END:DAYLIGHT
BEGIN:STANDARD
TZOFFSETFROM:-0700
TZOFFSETTO:-0800
TZNAME:PST
DTSTART:20221106T090000
END:STANDARD
BEGIN:DAYLIGHT
TZOFFSETFROM:-0800
TZOFFSETTO:-0700
TZNAME:PDT
DTSTART:20230312T100000
END:DAYLIGHT
BEGIN:STANDARD
TZOFFSETFROM:-0700
TZOFFSETTO:-0800
TZNAME:PST
DTSTART:20231105T090000
END:STANDARD
BEGIN:DAYLIGHT
TZOFFSETFROM:-0800
TZOFFSETTO:-0700
TZNAME:PDT
DTSTART:20240310T100000
END:DAYLIGHT
BEGIN:STANDARD
TZOFFSETFROM:-0700
TZOFFSETTO:-0800
TZNAME:PST
DTSTART:20241103T090000
END:STANDARD
END:VTIMEZONE
BEGIN:VEVENT
DTSTART;TZID=America/Vancouver:20230217T080000
DTEND;TZID=America/Vancouver:20230217T170000
DTSTAMP:20260425T111746
CREATED:20230222T205133Z
LAST-MODIFIED:20230222T205133Z
UID:15483-1676620800-1676653200@www.readlocalbc.ca
SUMMARY:Fireside Chat: Jónína Kirton
DESCRIPTION:This on-line chat will be about an hour long and will feature guest host and poet Michelle Poirier Brown in conversation with Jónína Kirton. The audience will have an opportunity to ask questions. \nJónína Kirton\, a Métis Icelandic poet\, received the 2016 Vancouver Mayor’s Arts Award for an Emerging Artist in the Literary Arts category. Her second collection of poetry\, An Honest Woman\, was a finalist in the 2018 Dorothy Livesay Poetry Prize. She just released her third book\, Standing in a River of Time. \nMichelle Poirier Brown is the author of You Might Be Sorry You Read This.
URL:https://www.readlocalbc.ca/event/fireside-chat-jonina-kirton/
LOCATION:Zoom
CATEGORIES:Panel
ATTACH;FMTTYPE=image/jpeg:https://www.readlocalbc.ca/wp-content/uploads/2023/02/Fireside-Chat-March.jpg
ORGANIZER;CN="Federation of BC Writers":MAILTO:rachel@bcwriters.ca
END:VEVENT
END:VCALENDAR