BEGIN:VCALENDAR
VERSION:2.0
PRODID:-//Read Local BC - ECPv6.15.20//NONSGML v1.0//EN
CALSCALE:GREGORIAN
METHOD:PUBLISH
X-WR-CALNAME:Read Local BC
X-ORIGINAL-URL:https://www.readlocalbc.ca
X-WR-CALDESC:Events for Read Local BC
REFRESH-INTERVAL;VALUE=DURATION:PT1H
X-Robots-Tag:noindex
X-PUBLISHED-TTL:PT1H
BEGIN:VTIMEZONE
TZID:America/Vancouver
BEGIN:DAYLIGHT
TZOFFSETFROM:-0800
TZOFFSETTO:-0700
TZNAME:PDT
DTSTART:20220313T100000
END:DAYLIGHT
BEGIN:STANDARD
TZOFFSETFROM:-0700
TZOFFSETTO:-0800
TZNAME:PST
DTSTART:20221106T090000
END:STANDARD
BEGIN:DAYLIGHT
TZOFFSETFROM:-0800
TZOFFSETTO:-0700
TZNAME:PDT
DTSTART:20230312T100000
END:DAYLIGHT
BEGIN:STANDARD
TZOFFSETFROM:-0700
TZOFFSETTO:-0800
TZNAME:PST
DTSTART:20231105T090000
END:STANDARD
BEGIN:DAYLIGHT
TZOFFSETFROM:-0800
TZOFFSETTO:-0700
TZNAME:PDT
DTSTART:20240310T100000
END:DAYLIGHT
BEGIN:STANDARD
TZOFFSETFROM:-0700
TZOFFSETTO:-0800
TZNAME:PST
DTSTART:20241103T090000
END:STANDARD
END:VTIMEZONE
BEGIN:VEVENT
DTSTART;TZID=America/Vancouver:20230824T170000
DTEND;TZID=America/Vancouver:20230824T190000
DTSTAMP:20260424T165439
CREATED:20230811T180354Z
LAST-MODIFIED:20230811T180354Z
UID:17945-1692896400-1692903600@www.readlocalbc.ca
SUMMARY:Ink Slinger Sampler:  Local Writers at the Night Market
DESCRIPTION:Wordstorm members will be showcasing their poetry\, fiction\, and creative non-fiction at a free family-friendly public event open to all ages on August 24th from 5 pm to 7 pm. The event happens in the atrium of the Harbourfront Library during Nanaimo’s Commercial Street Night Market. \nYou’ll be treated to twelve local poets and authors presenting excerpts of their work with a new presentation every ten minutes. You’ll get to meet and chat with poets and writers who will also have poetry chapbooks\, novels and other literary delights on display and available for purchase.
URL:https://www.readlocalbc.ca/event/ink-slinger-sampler-local-writers-at-the-night-market/
LOCATION:Vancouver Island Regional Library\, Nanaimo Harbourfront Branch\, 90 Commercial Street\, Nanaimo\, BC\, V9R 5G4\, Canada
ATTACH;FMTTYPE=image/jpeg:https://www.readlocalbc.ca/wp-content/uploads/2023/08/Ink-Slinger-Sampler-FB-Post-2-copy.jpg
ORGANIZER;CN="Wordstorm Society of the Arts":MAILTO:wordstormsociety@gmail.com
END:VEVENT
END:VCALENDAR