BEGIN:VCALENDAR
VERSION:2.0
PRODID:-//Read Local BC - ECPv6.15.20//NONSGML v1.0//EN
CALSCALE:GREGORIAN
METHOD:PUBLISH
X-ORIGINAL-URL:https://www.readlocalbc.ca
X-WR-CALDESC:Events for Read Local BC
REFRESH-INTERVAL;VALUE=DURATION:PT1H
X-Robots-Tag:noindex
X-PUBLISHED-TTL:PT1H
BEGIN:VTIMEZONE
TZID:America/Vancouver
BEGIN:DAYLIGHT
TZOFFSETFROM:-0800
TZOFFSETTO:-0700
TZNAME:PDT
DTSTART:20220313T100000
END:DAYLIGHT
BEGIN:STANDARD
TZOFFSETFROM:-0700
TZOFFSETTO:-0800
TZNAME:PST
DTSTART:20221106T090000
END:STANDARD
BEGIN:DAYLIGHT
TZOFFSETFROM:-0800
TZOFFSETTO:-0700
TZNAME:PDT
DTSTART:20230312T100000
END:DAYLIGHT
BEGIN:STANDARD
TZOFFSETFROM:-0700
TZOFFSETTO:-0800
TZNAME:PST
DTSTART:20231105T090000
END:STANDARD
BEGIN:DAYLIGHT
TZOFFSETFROM:-0800
TZOFFSETTO:-0700
TZNAME:PDT
DTSTART:20240310T100000
END:DAYLIGHT
BEGIN:STANDARD
TZOFFSETFROM:-0700
TZOFFSETTO:-0800
TZNAME:PST
DTSTART:20241103T090000
END:STANDARD
END:VTIMEZONE
BEGIN:VEVENT
DTSTART;TZID=America/Vancouver:20230314T190000
DTEND;TZID=America/Vancouver:20230314T210000
DTSTAMP:20260425T051647
CREATED:20230302T221719Z
LAST-MODIFIED:20230307T213233Z
UID:15836-1678820400-1678827600@www.readlocalbc.ca
SUMMARY:Book Launch: Don Gayton & Meaghan Hackinen
DESCRIPTION:Come celebrate ecology and travel writing! \nJoin well-known regional writers Don Gayton and Meaghan Hackinen for a Summerland book launch\, presented in partnership with the Ryga Arts Festival. Gayton explores diverse aspects of Okanagan ecology and culture in The Sky and the Patio (New Star Books). Hackinen recounts an epic bicycle trip in South Away (NeWest Press)\, pedalling from Terrace\, BC down to (almost) the tip of Mexico’s Baja Peninsula. Both Gayton and Hackinen have received awards for their writing. \nThe launch takes place at the Ryga Arts Centre\, Tuesday\, March 14\, beginning at 7:00 pm. Come and meet two engaging and talented writers! \nAdmission is free and the public is welcome. Books will be available for purchase\, and refreshments will be served.
URL:https://www.readlocalbc.ca/event/book-launch-don-gayton-meaghan-hackinen/
LOCATION:Ryga Arts & Cultural Centre\, 9525 Wharton Street\, Summerland\, British Columbia\, V0H 1Z0\, Canada
CATEGORIES:Launch,Reading
ATTACH;FMTTYPE=image/jpeg:https://www.readlocalbc.ca/wp-content/uploads/2023/03/Don-Gayton-and-Meaghan-Hackinen-Summerland-Launch.jpg
ORGANIZER;CN="Ryga Arts Festival":MAILTO:gm@rygafest.ca
END:VEVENT
END:VCALENDAR