BEGIN:VCALENDAR
VERSION:2.0
PRODID:-//Read Local BC - ECPv6.15.20//NONSGML v1.0//EN
CALSCALE:GREGORIAN
METHOD:PUBLISH
X-ORIGINAL-URL:https://www.readlocalbc.ca
X-WR-CALDESC:Events for Read Local BC
REFRESH-INTERVAL;VALUE=DURATION:PT1H
X-Robots-Tag:noindex
X-PUBLISHED-TTL:PT1H
BEGIN:VTIMEZONE
TZID:America/Vancouver
BEGIN:DAYLIGHT
TZOFFSETFROM:-0800
TZOFFSETTO:-0700
TZNAME:PDT
DTSTART:20240310T100000
END:DAYLIGHT
BEGIN:STANDARD
TZOFFSETFROM:-0700
TZOFFSETTO:-0800
TZNAME:PST
DTSTART:20241103T090000
END:STANDARD
BEGIN:DAYLIGHT
TZOFFSETFROM:-0800
TZOFFSETTO:-0700
TZNAME:PDT
DTSTART:20250309T100000
END:DAYLIGHT
BEGIN:STANDARD
TZOFFSETFROM:-0700
TZOFFSETTO:-0800
TZNAME:PST
DTSTART:20251102T090000
END:STANDARD
BEGIN:DAYLIGHT
TZOFFSETFROM:-0800
TZOFFSETTO:-0700
TZNAME:PDT
DTSTART:20260308T100000
END:DAYLIGHT
BEGIN:STANDARD
TZOFFSETFROM:-0700
TZOFFSETTO:-0800
TZNAME:PST
DTSTART:20261101T090000
END:STANDARD
END:VTIMEZONE
BEGIN:VEVENT
DTSTART;TZID=America/Vancouver:20250630T183000
DTEND;TZID=America/Vancouver:20250630T203000
DTSTAMP:20260423T094541
CREATED:20250617T202337Z
LAST-MODIFIED:20250617T202337Z
UID:31794-1751308200-1751315400@www.readlocalbc.ca
SUMMARY:Enabling Performance: an acoustic open mic night
DESCRIPTION:Come showcase your talents at our Open Mic Night and share your music\, poetry\, comedy\, or any other performance! \nWelcome to Enabling Performance: an acousistic open mic night! \nCome join us at Enabling Arts 343 Railway St #104 for a night of talent and fun. Whether you’re a seasoned performer or a first-timer\, this is your chance to shine on stage. Show off your songs\, comedy\, poetry\, or other performance material. Each performer gets five minutes\, and sign-up is first-come\, first-served when the doors open at 6:30 pm. \n*Bring your instruments. \n*There are non-alcoholic beverages and snacks available for purchase. \n*Remember to be respectful of performers and the space; everyone is welcome. \nGrab the mic\, come by to listen\, and make some friends!
URL:https://www.readlocalbc.ca/event/enabling-performance-an-acoustic-open-mic-night/
LOCATION:Enabling Arts\, 104-343 Railway Street\, Vancouver\, British Columbia\, V6A 1A4\, Canada
CATEGORIES:Open Mic
ATTACH;FMTTYPE=image/jpeg:https://www.readlocalbc.ca/wp-content/uploads/2025/06/EOSR9581-1.jpg
ORGANIZER;CN="Enabling Arts":MAILTO:info@enablingarts.com
END:VEVENT
END:VCALENDAR