BEGIN:VCALENDAR
VERSION:2.0
PRODID:-//Read Local BC - ECPv6.15.20//NONSGML v1.0//EN
CALSCALE:GREGORIAN
METHOD:PUBLISH
X-WR-CALNAME:Read Local BC
X-ORIGINAL-URL:https://www.readlocalbc.ca
X-WR-CALDESC:Events for Read Local BC
REFRESH-INTERVAL;VALUE=DURATION:PT1H
X-Robots-Tag:noindex
X-PUBLISHED-TTL:PT1H
BEGIN:VTIMEZONE
TZID:America/Vancouver
BEGIN:DAYLIGHT
TZOFFSETFROM:-0800
TZOFFSETTO:-0700
TZNAME:PDT
DTSTART:20220313T100000
END:DAYLIGHT
BEGIN:STANDARD
TZOFFSETFROM:-0700
TZOFFSETTO:-0800
TZNAME:PST
DTSTART:20221106T090000
END:STANDARD
BEGIN:DAYLIGHT
TZOFFSETFROM:-0800
TZOFFSETTO:-0700
TZNAME:PDT
DTSTART:20230312T100000
END:DAYLIGHT
BEGIN:STANDARD
TZOFFSETFROM:-0700
TZOFFSETTO:-0800
TZNAME:PST
DTSTART:20231105T090000
END:STANDARD
BEGIN:DAYLIGHT
TZOFFSETFROM:-0800
TZOFFSETTO:-0700
TZNAME:PDT
DTSTART:20240310T100000
END:DAYLIGHT
BEGIN:STANDARD
TZOFFSETFROM:-0700
TZOFFSETTO:-0800
TZNAME:PST
DTSTART:20241103T090000
END:STANDARD
END:VTIMEZONE
BEGIN:VEVENT
DTSTART;TZID=America/Vancouver:20230527T110000
DTEND;TZID=America/Vancouver:20230527T113000
DTSTAMP:20260424T204246
CREATED:20230419T174211Z
LAST-MODIFIED:20230419T174211Z
UID:16476-1685185200-1685187000@www.readlocalbc.ca
SUMMARY:PJ Storytime with Stuffies
DESCRIPTION:This May 27th\, BC author E.G. Alaraj will return to her hometown to do a reading of her bedtime board book\, When Stars Arise\, at the Gibsons Public Library. The event is themed as a PJ party with stuffies\, and the reading will be followed with arts and crafts. For children\, ages 3 and up.
URL:https://www.readlocalbc.ca/event/pj-storytime-with-stuffies/
LOCATION:Gibsons Public Library\, 470 South Fletcher Road\, Gibsons\, BC\, VON 1VO\, Canada
ATTACH;FMTTYPE=image/png:https://www.readlocalbc.ca/wp-content/uploads/2023/04/When-Stars-Arise-PJ-Storytime.png
ORGANIZER;CN="Gibsons Public Library":MAILTO:progers@gibsons.bclibrary.ca
END:VEVENT
END:VCALENDAR