BEGIN:VCALENDAR
VERSION:2.0
PRODID:-//Read Local BC - ECPv6.15.20//NONSGML v1.0//EN
CALSCALE:GREGORIAN
METHOD:PUBLISH
X-ORIGINAL-URL:https://www.readlocalbc.ca
X-WR-CALDESC:Events for Read Local BC
REFRESH-INTERVAL;VALUE=DURATION:PT1H
X-Robots-Tag:noindex
X-PUBLISHED-TTL:PT1H
BEGIN:VTIMEZONE
TZID:America/Vancouver
BEGIN:DAYLIGHT
TZOFFSETFROM:-0800
TZOFFSETTO:-0700
TZNAME:PDT
DTSTART:20220313T100000
END:DAYLIGHT
BEGIN:STANDARD
TZOFFSETFROM:-0700
TZOFFSETTO:-0800
TZNAME:PST
DTSTART:20221106T090000
END:STANDARD
BEGIN:DAYLIGHT
TZOFFSETFROM:-0800
TZOFFSETTO:-0700
TZNAME:PDT
DTSTART:20230312T100000
END:DAYLIGHT
BEGIN:STANDARD
TZOFFSETFROM:-0700
TZOFFSETTO:-0800
TZNAME:PST
DTSTART:20231105T090000
END:STANDARD
BEGIN:DAYLIGHT
TZOFFSETFROM:-0800
TZOFFSETTO:-0700
TZNAME:PDT
DTSTART:20240310T100000
END:DAYLIGHT
BEGIN:STANDARD
TZOFFSETFROM:-0700
TZOFFSETTO:-0800
TZNAME:PST
DTSTART:20241103T090000
END:STANDARD
END:VTIMEZONE
BEGIN:VEVENT
DTSTART;TZID=America/Vancouver:20230423T140000
DTEND;TZID=America/Vancouver:20230423T160000
DTSTAMP:20260425T040417
CREATED:20230327T205238Z
LAST-MODIFIED:20230327T205238Z
UID:16065-1682258400-1682265600@www.readlocalbc.ca
SUMMARY:READING: Read Local: Author’s Open House
DESCRIPTION:On Sunday\, April 23 at 2pm\, join the Friends of the White Rock Library in celebrating local literature for the Read Local: Author’s Open House. This entertaining afternoon program features five local authors reading from their latest works. Read Local is a wonderful opportunity for avid readers and aspiring writers to connect with local literary talent and hear their unique perspectives on their craft. This years authors are: Alison Acheson (Dance Me to the End)\, Taslim Burkowicz (Ruby Red Skies)\, Joseph Dandurand (The East Side of It All)\, George Garrett (George Garrett – Intrepid Reporter)\, and Simon Choa-Johnston (House of Daughters). \nAttendees will be able to purchase books directly from the featured authors. Refreshments will be available\, along with door prizes. \nContact Betty McDougall\, Friends of the White Rock Library\, with any inquiries at fowrl.member@gmail.com
URL:https://www.readlocalbc.ca/event/reading-read-local-authors-open-house/
LOCATION:White Rock Library\, 15342 Buena Vista Avenue\, White Rock\, BC\, V4B 1Y6\, Canada
CATEGORIES:Reading
END:VEVENT
END:VCALENDAR