BEGIN:VCALENDAR
VERSION:2.0
PRODID:-//Read Local BC - ECPv6.15.20//NONSGML v1.0//EN
CALSCALE:GREGORIAN
METHOD:PUBLISH
X-WR-CALNAME:Read Local BC
X-ORIGINAL-URL:https://www.readlocalbc.ca
X-WR-CALDESC:Events for Read Local BC
REFRESH-INTERVAL;VALUE=DURATION:PT1H
X-Robots-Tag:noindex
X-PUBLISHED-TTL:PT1H
BEGIN:VTIMEZONE
TZID:America/Vancouver
BEGIN:DAYLIGHT
TZOFFSETFROM:-0800
TZOFFSETTO:-0700
TZNAME:PDT
DTSTART:20220313T100000
END:DAYLIGHT
BEGIN:STANDARD
TZOFFSETFROM:-0700
TZOFFSETTO:-0800
TZNAME:PST
DTSTART:20221106T090000
END:STANDARD
BEGIN:DAYLIGHT
TZOFFSETFROM:-0800
TZOFFSETTO:-0700
TZNAME:PDT
DTSTART:20230312T100000
END:DAYLIGHT
BEGIN:STANDARD
TZOFFSETFROM:-0700
TZOFFSETTO:-0800
TZNAME:PST
DTSTART:20231105T090000
END:STANDARD
BEGIN:DAYLIGHT
TZOFFSETFROM:-0800
TZOFFSETTO:-0700
TZNAME:PDT
DTSTART:20240310T100000
END:DAYLIGHT
BEGIN:STANDARD
TZOFFSETFROM:-0700
TZOFFSETTO:-0800
TZNAME:PST
DTSTART:20241103T090000
END:STANDARD
END:VTIMEZONE
BEGIN:VEVENT
DTSTART;TZID=America/Vancouver:20230916T123000
DTEND;TZID=America/Vancouver:20230916T140000
DTSTAMP:20260424T144641
CREATED:20230814T191020Z
LAST-MODIFIED:20230814T191020Z
UID:18060-1694867400-1694872800@www.readlocalbc.ca
SUMMARY:Poetry Bus! Celebrating the 27th Year of Poetry in Transit
DESCRIPTION:In partnership with TransLink and BC Transit\, Read Local BC presents the launch of this year’s Poetry In Transit campaign at Word Vancouver. Now celebrating its 27th year\, this beloved community-engagement project displays the work of ten BC poets on public transit vehicles throughout the province. Join us to hear a selection of the featured 2023-24 poets read from their work\, followed by a short discussion and Q&A in which you can engage with the poets over your love of the written verse! Hosted by Evelyn Lau. \nReaders:\nSusan Braley – Tilling the Darkness (Caitlin Press & Dagger Editions)\nP.W. Bridgman – At the Bakery After the Pathology Report Arrives (Ekstasis Editions)\nEdward Byrne – Tracery (Talonbooks)\nMegan Fennya Jones – The Program (Goose Lane Editions)\nMark Leiren-Young – Big Sharks\, Small World (Orca Book Publishers)\nEmily Osborne – Safety Razor (Gordon Hill Press)\nKirsten Pendreigh – Best Canadian Poetry 2021 (Biblioasis)\nIan Thomas – Green Islands: Poems from the Great Bear Rainforest (Rainbow Publishers & Raven Chapbooks)
URL:https://www.readlocalbc.ca/event/poetry-bus-celebrating-the-27th-year-of-poetry-in-transit/
LOCATION:UBC Robson Square\, 800 Robson St\, Vancouver\, BC\, V6E 1A7\, Canada
CATEGORIES:Festival,Launch,Meet & Greet,Panel
ATTACH;FMTTYPE=image/png:https://www.readlocalbc.ca/wp-content/uploads/2023/08/PoetryinTransit-WordVan-landscape-1.png
ORGANIZER;CN="Word Vancouver":MAILTO:blnish_pandoras@yahoo.ca
END:VEVENT
END:VCALENDAR