BEGIN:VCALENDAR
VERSION:2.0
PRODID:-//Read Local BC - ECPv6.15.20//NONSGML v1.0//EN
CALSCALE:GREGORIAN
METHOD:PUBLISH
X-ORIGINAL-URL:https://www.readlocalbc.ca
X-WR-CALDESC:Events for Read Local BC
REFRESH-INTERVAL;VALUE=DURATION:PT1H
X-Robots-Tag:noindex
X-PUBLISHED-TTL:PT1H
BEGIN:VTIMEZONE
TZID:America/Vancouver
BEGIN:DAYLIGHT
TZOFFSETFROM:-0800
TZOFFSETTO:-0700
TZNAME:PDT
DTSTART:20240310T100000
END:DAYLIGHT
BEGIN:STANDARD
TZOFFSETFROM:-0700
TZOFFSETTO:-0800
TZNAME:PST
DTSTART:20241103T090000
END:STANDARD
BEGIN:DAYLIGHT
TZOFFSETFROM:-0800
TZOFFSETTO:-0700
TZNAME:PDT
DTSTART:20250309T100000
END:DAYLIGHT
BEGIN:STANDARD
TZOFFSETFROM:-0700
TZOFFSETTO:-0800
TZNAME:PST
DTSTART:20251102T090000
END:STANDARD
BEGIN:DAYLIGHT
TZOFFSETFROM:-0800
TZOFFSETTO:-0700
TZNAME:PDT
DTSTART:20260308T100000
END:DAYLIGHT
BEGIN:STANDARD
TZOFFSETFROM:-0700
TZOFFSETTO:-0800
TZNAME:PST
DTSTART:20261101T090000
END:STANDARD
END:VTIMEZONE
BEGIN:VEVENT
DTSTART;TZID=America/Vancouver:20250407T080000
DTEND;TZID=America/Vancouver:20250407T170000
DTSTAMP:20260423T135010
CREATED:20250408T202146Z
LAST-MODIFIED:20250408T202146Z
UID:30195-1744012800-1744045200@www.readlocalbc.ca
SUMMARY:TriCities Writers Fest
DESCRIPTION:Get ready for the Tri-Cities Writers Festival 2025! \nWe’re welcoming more than a dozen celebrated authors to our community for four days of talks\, panels\, and workshops this May. Sessions will be in-person and online\, and include a kick-off cocktail reception\, where you can enjoy great food and drink alongside your fellow book lovers\, and our panel of guest authors. \nThe Writers Festival is a collaboration between local libraries and the Tri-City Wordsmiths\, with support from OverDrive\, Evergreen Cultural Centre\, and the Writers’ Union of Canada. With funding from Canada Council for the Arts/Conseil des arts du Canada. \nFor the schedule and author lineup\, visit: https://www.coqlibrary.ca/seasonal-pages/tri-cities-writers-festival
URL:https://www.readlocalbc.ca/event/tricities-writers-fest/
LOCATION:BC
CATEGORIES:Festival,Meet & Greet,Panel,Reading
ATTACH;FMTTYPE=image/png:https://www.readlocalbc.ca/wp-content/uploads/2025/04/Writers-Fest-2025-FB.png
ORGANIZER;CN="Coquitlam Public Library":MAILTO:ask@coqlibrary.ca
END:VEVENT
END:VCALENDAR