BEGIN:VCALENDAR
VERSION:2.0
PRODID:-//Read Local BC - ECPv6.15.20//NONSGML v1.0//EN
CALSCALE:GREGORIAN
METHOD:PUBLISH
X-WR-CALNAME:Read Local BC
X-ORIGINAL-URL:https://www.readlocalbc.ca
X-WR-CALDESC:Events for Read Local BC
REFRESH-INTERVAL;VALUE=DURATION:PT1H
X-Robots-Tag:noindex
X-PUBLISHED-TTL:PT1H
BEGIN:VTIMEZONE
TZID:America/Vancouver
BEGIN:DAYLIGHT
TZOFFSETFROM:-0800
TZOFFSETTO:-0700
TZNAME:PDT
DTSTART:20240310T100000
END:DAYLIGHT
BEGIN:STANDARD
TZOFFSETFROM:-0700
TZOFFSETTO:-0800
TZNAME:PST
DTSTART:20241103T090000
END:STANDARD
BEGIN:DAYLIGHT
TZOFFSETFROM:-0800
TZOFFSETTO:-0700
TZNAME:PDT
DTSTART:20250309T100000
END:DAYLIGHT
BEGIN:STANDARD
TZOFFSETFROM:-0700
TZOFFSETTO:-0800
TZNAME:PST
DTSTART:20251102T090000
END:STANDARD
BEGIN:DAYLIGHT
TZOFFSETFROM:-0800
TZOFFSETTO:-0700
TZNAME:PDT
DTSTART:20260308T100000
END:DAYLIGHT
BEGIN:STANDARD
TZOFFSETFROM:-0700
TZOFFSETTO:-0800
TZNAME:PST
DTSTART:20261101T090000
END:STANDARD
END:VTIMEZONE
BEGIN:VEVENT
DTSTART;TZID=America/Vancouver:20250923T190000
DTEND;TZID=America/Vancouver:20250923T203000
DTSTAMP:20260423T072254
CREATED:20250904T225138Z
LAST-MODIFIED:20250904T225138Z
UID:36090-1758654000-1758659400@www.readlocalbc.ca
SUMMARY:Booksmack! An evening of book reviews and laughter
DESCRIPTION:Do you love to read? Our highly specialized team of wild and nerdy bibliophiles go head to head as they race against the clock to speed review their favourite books\, podcasts and more! Booklists and laughter are included. Drop-in and free of charge.
URL:https://www.readlocalbc.ca/event/booksmack-an-evening-of-book-reviews-and-laughter/
LOCATION:Okanagan Regional Library\, Vernon branch\, 2800 30th Avenue\, Vernon\, BC\, V1T 8S3\, Canada
CATEGORIES:Reading
ATTACH;FMTTYPE=image/jpeg:https://www.readlocalbc.ca/wp-content/uploads/2025/09/1753293650.jpg
ORGANIZER;CN="Okanagan Regional Library":MAILTO:vereference@orl.bc.ca
END:VEVENT
END:VCALENDAR