BEGIN:VCALENDAR
VERSION:2.0
PRODID:-//Read Local BC - ECPv6.15.20//NONSGML v1.0//EN
CALSCALE:GREGORIAN
METHOD:PUBLISH
X-ORIGINAL-URL:https://www.readlocalbc.ca
X-WR-CALDESC:Events for Read Local BC
REFRESH-INTERVAL;VALUE=DURATION:PT1H
X-Robots-Tag:noindex
X-PUBLISHED-TTL:PT1H
BEGIN:VTIMEZONE
TZID:America/Vancouver
BEGIN:DAYLIGHT
TZOFFSETFROM:-0800
TZOFFSETTO:-0700
TZNAME:PDT
DTSTART:20240310T100000
END:DAYLIGHT
BEGIN:STANDARD
TZOFFSETFROM:-0700
TZOFFSETTO:-0800
TZNAME:PST
DTSTART:20241103T090000
END:STANDARD
BEGIN:DAYLIGHT
TZOFFSETFROM:-0800
TZOFFSETTO:-0700
TZNAME:PDT
DTSTART:20250309T100000
END:DAYLIGHT
BEGIN:STANDARD
TZOFFSETFROM:-0700
TZOFFSETTO:-0800
TZNAME:PST
DTSTART:20251102T090000
END:STANDARD
BEGIN:DAYLIGHT
TZOFFSETFROM:-0800
TZOFFSETTO:-0700
TZNAME:PDT
DTSTART:20260308T100000
END:DAYLIGHT
BEGIN:STANDARD
TZOFFSETFROM:-0700
TZOFFSETTO:-0800
TZNAME:PST
DTSTART:20261101T090000
END:STANDARD
END:VTIMEZONE
BEGIN:VEVENT
DTSTART;TZID=America/Vancouver:20250704T190000
DTEND;TZID=America/Vancouver:20250704T220000
DTSTAMP:20260423T084125
CREATED:20250626T214334Z
LAST-MODIFIED:20250626T214334Z
UID:31923-1751655600-1751666400@www.readlocalbc.ca
SUMMARY:Borderless Solidarities: Storytelling in Ruptured Times
DESCRIPTION:Join us as we raise a glass to 15 incredible years of the Indian Summer Festival! We’re kicking off our milestone edition with an intimate evening of contemplation\, connection\, and celebration. \nBorderless Solidarities: Storytelling in Ruptured Times brings together Minelle Mahtani\, Adel Iskandar\, Baljit Sangra\, and Nermin Gogalic; thinkers\, writers and artists whose work is rooted in memory\, migration\, resistance\, conflict and the power of narrative to shape how we see ourselves and each other. \nIt’s an invitation to reflect on the stories we tell\, the ones we silence\, and the ones that slip through the cracks. From journalism to film to writing\, these voices explore how storytelling can open up space for new stories\, especially in times of profound rupture. \nHow do we tell stories across borders? How do we honour complexity without resolution? What if storytelling is less about answers and more about attuning ourselves to deeper questions? \nJoin us for an evening of critical conversation\, a chance to sit with stories that unsettle\, illuminate\, and expand the sense of what’s possible. \nThe evening also features a behind the scenes Festival overview with Curator in Residence Am Johal and a complimentary cocktail at our post-talk reception. Expect rich dialogue\, old friends\, new faces\, and that unmistakable Indian Summer warmth. \nLet the festivities begin.
URL:https://www.readlocalbc.ca/event/borderless-solidarities-storytelling-in-ruptured-times/
LOCATION:Waterfront Theatre\, 1412 Cartwright St.\, Vancouver\, BC\, V6H 3R8\, Canada
CATEGORIES:Day of Celebration
ATTACH;FMTTYPE=image/jpeg:https://www.readlocalbc.ca/wp-content/uploads/2025/06/ISF2025_Banner_Event_Borderless_Solidarities_2160x1080.jpg
ORGANIZER;CN="Indian Summer Festival":MAILTO:admin@indiansummerfest.ca
END:VEVENT
BEGIN:VEVENT
DTSTART;TZID=America/Vancouver:20250710T193000
DTEND;TZID=America/Vancouver:20250710T223000
DTSTAMP:20260423T084125
CREATED:20250626T213943Z
LAST-MODIFIED:20250626T214234Z
UID:31929-1752175800-1752186600@www.readlocalbc.ca
SUMMARY:Horizons
DESCRIPTION:How do we hold grief in these fractured times? When nation states starve the innocent and empires redraw borders with ruthless intent\, when tools meant to connect us end up driving us apart\, we turn to artists to offer meaning and remind us of our humanity. Horizons gathers a luminous constellation of award-winning artists who offer us vision\, sanctuary\, and solidarity. \nCurated by Ruby Singh\, this event features Vivek Shraya\, whose award-winning body of work spans music\, literature\, visual art\, theatre\, TV\, film\, and fashion. Also featuring Kimmortal renowned for their highly conceptual\, genre-bending musical explorations and intricate lyricism. Mohanad El Eek\, a virtuoso Syrian oud player\, adds his exceptional talent to the lineup. \nThe night will also showcase exclusive one-night-only collaborations: the heart-stirring poetry of Brandon Wint paired with the dynamic composer\, trumpeter\, bassist\, and electronic musician Feven Kidane; and Governor General’s Literary Award winner\nCecily Nicholson in collaboration with the soulful sounds of violinist\, singer\, and songwriter Sejal Lal. \nTogether\, these artists create a powerful soundscape—part concert\, part gathering\, part invocation of a future built on connection\, care\, resistance and difference. This is more than a performance—it’s an invitation to critically imagine new ways of being together in the troubling present. \nJust as horizons stretch beyond lines on a map\, this night of performance transcends the confines of genre. Through music\, poetry\, and stories\, these artists light a torch in the dark\, guiding us toward collective reckoning and shared humanity. \nThis is more than a performance. It is a gathering — a reminder that even in grief\, we can meet at the horizon and imagine something new\, together.
URL:https://www.readlocalbc.ca/event/horizons/
LOCATION:Vancouver Playhouse\, 600 Hamilton St Vancouver\, BC V6B 5N6 Canada\, Vancouver\, BC\, V6B 5N6\, Canada
CATEGORIES:Festival
ATTACH;FMTTYPE=image/jpeg:https://www.readlocalbc.ca/wp-content/uploads/2025/06/ISF2025_Banner_Event_Horizons_1200x600.jpg
ORGANIZER;CN="Indian Summer Festival":MAILTO:admin@indiansummerfest.ca
END:VEVENT
BEGIN:VEVENT
DTSTART;TZID=America/Vancouver:20250722T180000
DTEND;TZID=America/Vancouver:20250722T200000
DTSTAMP:20260423T084125
CREATED:20250903T205723Z
LAST-MODIFIED:20250903T205723Z
UID:32570-1753207200-1753214400@www.readlocalbc.ca
SUMMARY:Summer Sounds and Sonics in Poetic Form
DESCRIPTION:City of Vancouver Poet Laureate Elee Kraljii Gardiner hosts a night of poems with poetry ambassadors Johnny Trinh\, Kevin Spenst\, and Marc Perez. These four poets with distinct craft practices invite you to consider the role of sounds and sonics within the framework of the poem. Vocalizations\, modulations\, polyphony\, multilingualism\, repetition\, call and response are potential ingredients in this lively and festive introduction to the poet laureate team. \n— \nKevin Spenst (he/him) is a poet\, teacher\, and reviewer\, has published four full-length poetry collections\, most recently A Bouquet Brought Back From Space (Anvil Press\, 2024) and 17 chapbooks\, most recently Windowful (Anstruther Press\, 2025). He is one of the organizers of the Dead Poets Reading Series\, has a chapbook review column for subTerrain magazine\, and occasionally co-hosts Wax Poetic on Vancouver Co-op Radio. He is a Poetry Mentor at The Writer’s Studio at Simon Fraser University in Vancouver on unceded xʷməθkʷəy̓əm (Musqueam)\, Sḵwx̱wú7mesh (Squamish) and səl̓ilw̓ətaʔɬ (Tsleil-Waututh) territory where he cohabitates with the one and only Cheryl Rossi. \nMarc Perez is the author of Dayo\, published by Brick Books in 2024. Perez observes and draws inspiration from the world around him. He believes that writing is a powerful political act\, and he uses poetry to participate in the discourses that affect him\, his communities\, and the society in general. Through his poems\, he offers the reader his inner self\, imaginations\, and worldview. He aims to create images that move hearts. In his free time\, he likes to wander with his camera and capture fleeting moments in the city. \nJohnny D Trinh loves making noise\, making food\, and feasting with people. Trinh has a long practice in spoken word poetry\, theatre making\, and community-engaged culinary art. Johnny’s work is focused on celebrating and unpacking the way we tell our stories and how we find identity and community through storytelling. Johnny is the artistic director for Vancouver Poetry House\, interim executive director for Historic Joy Kogawa House\, and founder of Stage to Page Performance Society. Trinh is also a resident artist with the City of Vancouver creating programs that bring multicultural and multigenerational communities together to share stories and celebrate cultural foods. “It takes a community to build an artist\, whether we are nurtured by it… or resist against it.” johnnydavidtrinh.com \nElee Kraljii Gardiner is an author\, editor\, and creative mentor living in Vancouver\, Canada. She is the author of two poetry books\, Trauma Head\, and Serpentine Loop. She is also editor of the anthologies Against Death: 35 Essays on Living and V6A: Writing From Vancouver’s Downtown Eastside. A frequent collaborator with choreographers\, musicians\, and visual artists\, Elee is currently collaborating with nature via a series of durational art installations that investigate the law of thermodynamics and cultural ideas regarding the passing of time. Elee directs Vancouver Manuscript Intensive\, an online program pairing authors with mentors\, and is the seventh poet laureate of Vancouver. eleekg.com
URL:https://www.readlocalbc.ca/event/summer-sounds-and-sonics-in-poetic-form/
LOCATION:Vancouver Public Library\, Central Branch\, 350 West Georgia St.\, Vancouver\, BC\, V6B 6B1\, Canada
CATEGORIES:Book Signing,Panel
ATTACH;FMTTYPE=image/jpeg:https://www.readlocalbc.ca/wp-content/uploads/2025/07/Final-SummerSounds.jpg
ORGANIZER;CN="Vancouver Public Library":MAILTO:candie.tanaka@vpl.ca
END:VEVENT
END:VCALENDAR