BEGIN:VCALENDAR
VERSION:2.0
PRODID:-//Read Local BC - ECPv6.15.20//NONSGML v1.0//EN
CALSCALE:GREGORIAN
METHOD:PUBLISH
X-WR-CALNAME:Read Local BC
X-ORIGINAL-URL:https://www.readlocalbc.ca
X-WR-CALDESC:Events for Read Local BC
REFRESH-INTERVAL;VALUE=DURATION:PT1H
X-Robots-Tag:noindex
X-PUBLISHED-TTL:PT1H
BEGIN:VTIMEZONE
TZID:America/Vancouver
BEGIN:DAYLIGHT
TZOFFSETFROM:-0800
TZOFFSETTO:-0700
TZNAME:PDT
DTSTART:20250309T100000
END:DAYLIGHT
BEGIN:STANDARD
TZOFFSETFROM:-0700
TZOFFSETTO:-0800
TZNAME:PST
DTSTART:20251102T090000
END:STANDARD
BEGIN:DAYLIGHT
TZOFFSETFROM:-0800
TZOFFSETTO:-0700
TZNAME:PDT
DTSTART:20260308T100000
END:DAYLIGHT
BEGIN:STANDARD
TZOFFSETFROM:-0700
TZOFFSETTO:-0800
TZNAME:PST
DTSTART:20261101T090000
END:STANDARD
BEGIN:DAYLIGHT
TZOFFSETFROM:-0800
TZOFFSETTO:-0700
TZNAME:PDT
DTSTART:20270314T100000
END:DAYLIGHT
BEGIN:STANDARD
TZOFFSETFROM:-0700
TZOFFSETTO:-0800
TZNAME:PST
DTSTART:20271107T090000
END:STANDARD
END:VTIMEZONE
BEGIN:VEVENT
DTSTART;TZID=America/Vancouver:20260327T190000
DTEND;TZID=America/Vancouver:20260327T210000
DTSTAMP:20260422T233245
CREATED:20260316T180310Z
LAST-MODIFIED:20260316T180310Z
UID:49604-1774638000-1774645200@www.readlocalbc.ca
SUMMARY:Off the Shelf Poetry Reading Series: Joanne Leow\, Garth Martens\, Fenn Stewart
DESCRIPTION:Please join Simon Fraser University’s Department of English and Poetry in Canada for a poetry reading featuring our own Professor Joanne Leow and Garth Martens and Fenn Stewart. \nDetails:\nDate/Time: Friday\, March 27th (Doors: 6:30 PM; Readings 7-9 PM)\nLocation: SFU Belzberg Library (SFU’s Harbour Centre campus – 515 West Hastings St.\, Vancouver) \n*Free Event; No RSVP Required \nBios \nJoanne Leow is Associate Professor and Tier 2 Canada Research Chair of Transnational and Decolonial Digital Humanities in the Department of English at Simon Fraser University. Her first academic monograph is “Counter-Cartographies: Reading Singapore Otherwise” (Liverpool University Press\, 2024). She is also a poet and writer with a debut collection of poetry\, “Seas Move Away” (Turnstone Press\, 2022) and a forthcoming creative-critical memoir\, “Exhumations: In the Body of a Petrostate” (Alchemy Press\, 2026). Her writing and research interests lie at the intersections of spatial theory\, decolonial theory\, postcolonial studies\, transnational and diasporic texts\, and the environmental humanities. \nGarth Martens is the author of “Prologue for the Age of Consequence” and “Who Else in the Dark Headed There”. For his first book\, he was a finalist for the Governor General’s Literary Award for Poetry. He is also a past winner of the Bronwen Wallace Award for Emerging Writers. His poetry appears in “Dark Mountain Project”\, “Poetry Ireland”\, “Hazlitt”\, “This Magazine”\, “Vallum”\, “Fiddlehead”\, and “Best Canadian Poetry”. He is a co-founder and producer for Palabra Flamenco\, a literary flamenco ensemble that joins traditional flamenco dance and music with poetry and oral storytelling. He lives in Victoria\, BC. \nFenn Stewart is the author of three chapbooks and two poetry collections – “Better Nature”\, which was longlisted for the 2018 Gerald Lampert Memorial Prize\, and “women & roosters” (2025). A former editor of “The Capilano Review”\, she continues to serve on the magazine’s editorial board. Stewart holds a PhD in social and political thought\, and teaches literature and writing at Capilano University. She lives with her kids\, and the world’s nicest dog\, on unceded Skwxwú7mesh (Squamish)\, xʷməθkʷəỷəm (Musqueam)\, and səlilwətaɬ (Tsleil-Waututh) territories. \nVenue Accessibility \nThis in-person event takes place at the SFU’s Harbour Centre campus. It is easily accessible by transit and near SkyTrain. The campus is wheelchair accessible and has wheelchair accessible washrooms. Gender neutral washrooms are also available.
URL:https://www.readlocalbc.ca/event/off-the-shelf-poetry-reading-series-joanne-leow-garth-martens-fenn-stewart/
LOCATION:SFU Harbour Centre\, 515 West Hastings Street\, Vancouver\, BC\, Canada
CATEGORIES:Author Discussion,Reading
ATTACH;FMTTYPE=image/jpeg:https://www.readlocalbc.ca/wp-content/uploads/2026/03/LiveWhale_Off-the-Shelf-Poetry-12.jpg
ORGANIZER;CN="SFU English":MAILTO:englcmns@sfu.ca
END:VEVENT
END:VCALENDAR