BEGIN:VCALENDAR
VERSION:2.0
PRODID:-//Read Local BC - ECPv6.15.20//NONSGML v1.0//EN
CALSCALE:GREGORIAN
METHOD:PUBLISH
X-ORIGINAL-URL:https://www.readlocalbc.ca
X-WR-CALDESC:Events for Read Local BC
REFRESH-INTERVAL;VALUE=DURATION:PT1H
X-Robots-Tag:noindex
X-PUBLISHED-TTL:PT1H
BEGIN:VTIMEZONE
TZID:America/Vancouver
BEGIN:DAYLIGHT
TZOFFSETFROM:-0800
TZOFFSETTO:-0700
TZNAME:PDT
DTSTART:20240310T100000
END:DAYLIGHT
BEGIN:STANDARD
TZOFFSETFROM:-0700
TZOFFSETTO:-0800
TZNAME:PST
DTSTART:20241103T090000
END:STANDARD
BEGIN:DAYLIGHT
TZOFFSETFROM:-0800
TZOFFSETTO:-0700
TZNAME:PDT
DTSTART:20250309T100000
END:DAYLIGHT
BEGIN:STANDARD
TZOFFSETFROM:-0700
TZOFFSETTO:-0800
TZNAME:PST
DTSTART:20251102T090000
END:STANDARD
BEGIN:DAYLIGHT
TZOFFSETFROM:-0800
TZOFFSETTO:-0700
TZNAME:PDT
DTSTART:20260308T100000
END:DAYLIGHT
BEGIN:STANDARD
TZOFFSETFROM:-0700
TZOFFSETTO:-0800
TZNAME:PST
DTSTART:20261101T090000
END:STANDARD
END:VTIMEZONE
BEGIN:VEVENT
DTSTART;VALUE=DATE:20251015
DTEND;VALUE=DATE:20251021
DTSTAMP:20260423T061534
CREATED:20251008T223639Z
LAST-MODIFIED:20251008T223639Z
UID:43473-1760493600-1760925599@www.readlocalbc.ca
SUMMARY:Victoria Festival of Authors
DESCRIPTION:The Victoria Festival of Authors celebrates its 10th anniversary with 40 luminary guests including 2025 Booker Prize nominee Maria Reva\, Booker Prize nominee Madeleine Thien\, Emma Donoghue\, Brian Thomas Issac\, Conor Kerr (all Scotiabank Giller Prize nominees)\, and a wide range of talented and award-winning Canadian and local authors including Joseph Dandurand\, Katherena Vermette\, Sheri-D Wilson and more. This year’s festival continues its hybrid format with in-person programming\, livestream viewing for some events\, and virtual readings and panels with authors from around Canada. Join us and celebrate 10 years of literary arts from Oct. 15 to 19\, 2025.
URL:https://www.readlocalbc.ca/event/victoria-festival-of-authors-2/
LOCATION:Victoria\, BC
CATEGORIES:Festival
ATTACH;FMTTYPE=image/webp:https://www.readlocalbc.ca/wp-content/uploads/2025/10/2025-logo-wide-e1755393048683.webp
ORGANIZER;CN="Victoria Festival of Authors":MAILTO:info@victoriafestivalofauthors.ca
END:VEVENT
END:VCALENDAR