BEGIN:VCALENDAR
VERSION:2.0
PRODID:-//Read Local BC - ECPv6.15.20//NONSGML v1.0//EN
CALSCALE:GREGORIAN
METHOD:PUBLISH
X-ORIGINAL-URL:https://www.readlocalbc.ca
X-WR-CALDESC:Events for Read Local BC
REFRESH-INTERVAL;VALUE=DURATION:PT1H
X-Robots-Tag:noindex
X-PUBLISHED-TTL:PT1H
BEGIN:VTIMEZONE
TZID:America/Vancouver
BEGIN:DAYLIGHT
TZOFFSETFROM:-0800
TZOFFSETTO:-0700
TZNAME:PDT
DTSTART:20230312T100000
END:DAYLIGHT
BEGIN:STANDARD
TZOFFSETFROM:-0700
TZOFFSETTO:-0800
TZNAME:PST
DTSTART:20231105T090000
END:STANDARD
BEGIN:DAYLIGHT
TZOFFSETFROM:-0800
TZOFFSETTO:-0700
TZNAME:PDT
DTSTART:20240310T100000
END:DAYLIGHT
BEGIN:STANDARD
TZOFFSETFROM:-0700
TZOFFSETTO:-0800
TZNAME:PST
DTSTART:20241103T090000
END:STANDARD
BEGIN:DAYLIGHT
TZOFFSETFROM:-0800
TZOFFSETTO:-0700
TZNAME:PDT
DTSTART:20250309T100000
END:DAYLIGHT
BEGIN:STANDARD
TZOFFSETFROM:-0700
TZOFFSETTO:-0800
TZNAME:PST
DTSTART:20251102T090000
END:STANDARD
END:VTIMEZONE
BEGIN:VEVENT
DTSTART;TZID=America/Vancouver:20240228T190000
DTEND;TZID=America/Vancouver:20240228T210000
DTSTAMP:20260424T183455
CREATED:20240213T185803Z
LAST-MODIFIED:20240213T185803Z
UID:20301-1709146800-1709154000@www.readlocalbc.ca
SUMMARY:Best Canadian Poetry in English 2024 Launch Party!!
DESCRIPTION:Please join Munro’s Books in celebrating the launch of the Best Canadian Poetry in English 2024! \nLocal poet Yvonne Blomer will host a reading by five of this year’s local poets included in the collection: Nicholas Bradley\, Kayla Czaga\, Hilary Clark\, Anna Moore\, and Joanna Streetly. \nPraise for the book includes: \n“Buy it\, or borrow it\, but do read it.” —Arc Poetry Magazine \n“A magnet\, I think\, for the many people who would like to know contemporary poetry.” —A.F. Moritz\, Griffin Poetry Prize winner \nWHEN: Wednesday\, February 28th\, 7:00 p.m. \nWHERE: Fortune Gallery\, 537 Fisgard St. in Victoria \nWHAT: Readings by Nicholas Bradley\, Kayla Czaga\, Hilary Clark\, Anna Moore\, and Joanna Streetly\, hosted by Yvonne Blomer. \nHOW: This event is free to attend.
URL:https://www.readlocalbc.ca/event/best-canadian-poetry-in-english-2024-launch-party/
LOCATION:Fortune Gallery\, 537 Fisgard Street\, Victoria\, BC\, V8W 1R3\, Canada
CATEGORIES:Launch,Meet & Greet
ATTACH;FMTTYPE=image/png:https://www.readlocalbc.ca/wp-content/uploads/2024/02/BCPE-IG.png
ORGANIZER;CN="Munro's Books":MAILTO:events@munrobooks.com
END:VEVENT
END:VCALENDAR